BEGIN:VCALENDAR
VERSION:2.0
PRODID:-//wp-events-plugin.com//7.2.2.1//EN
TZID:America/Los_Angeles
X-WR-TIMEZONE:America/Los_Angeles
BEGIN:VEVENT
UID:14774@uucpa.org
DTSTART;TZID=America/Los_Angeles:20250513T191500
DTEND;TZID=America/Los_Angeles:20250513T204500
DTSTAMP:20250509T231602Z
URL:https://www.uucpa.org/events/dismantling-white-supremacy-2-2025-05-13/
SUMMARY:Dismantling White Supremacy
DESCRIPTION:Dismantling White Supremacy  \n\n\n\n\n\n\n\n\n\n\n\n\nUUCPA's 
 Dismantling White Supremacy group meets on the 2nd Tuesday of the month th
 rough June 10\, 2025.\n\nOn May 13\, 2025\, the topic will be "How We Got 
 Here: White Supremacy As a Shaper of US Political and Social Realities\," 
 and is a sermon with Q&amp\;A by Rev. Amy Zucker Morgenstern.\n\n\n\n\nWe 
 meet via Zoom at this link.\n\n\n\n\n\n\n\n\n\n 
CATEGORIES:Adult,Learning,Ongoing Events,Small Groups
END:VEVENT
BEGIN:VTIMEZONE
TZID:America/Los_Angeles
X-LIC-LOCATION:America/Los_Angeles
BEGIN:DAYLIGHT
DTSTART:20250309T030000
TZOFFSETFROM:-0800
TZOFFSETTO:-0700
TZNAME:PDT
END:DAYLIGHT
END:VTIMEZONE
END:VCALENDAR