BEGIN:VCALENDAR
VERSION:2.0
PRODID:-//wp-events-plugin.com//7.2.2.1//EN
TZID:America/Los_Angeles
X-WR-TIMEZONE:America/Los_Angeles
BEGIN:VEVENT
UID:14775@uucpa.org
DTSTART;TZID=America/Los_Angeles:20250610T191500
DTEND;TZID=America/Los_Angeles:20250610T204500
DTSTAMP:20250509T230824Z
URL:https://www.uucpa.org/events/dismantling-white-supremacy-2-2025-06-10/
SUMMARY:Dismantling White Supremacy
DESCRIPTION:Dismantling White Supremacy  \n\n\n\n\n\n\n\n\n\n\nUUCPA's Dism
 antling White Supremacy group meets on the 2nd Tuesday of the month. Today
 \, June 10\, 2025\, is its final meeting. The topic will be "Where We Go f
 rom Here: What the History of White Supremacy Tells Us About How to Get Ou
 t of This Mess\," and is a sermon with Q&amp\;A by Rev. Amy Zucker Morgens
 tern. We meet by Zoom at this link.\n\n\n\n\n\n\n\n\n\n\n\n 
CATEGORIES:Adult,Learning,Ongoing Events,Small Groups
END:VEVENT
BEGIN:VTIMEZONE
TZID:America/Los_Angeles
X-LIC-LOCATION:America/Los_Angeles
BEGIN:DAYLIGHT
DTSTART:20250309T030000
TZOFFSETFROM:-0800
TZOFFSETTO:-0700
TZNAME:PDT
END:DAYLIGHT
END:VTIMEZONE
END:VCALENDAR