BEGIN:VCALENDAR
VERSION:2.0
PRODID:-//wp-events-plugin.com//7.2.2.1//EN
TZID:America/Los_Angeles
X-WR-TIMEZONE:America/Los_Angeles
BEGIN:VEVENT
UID:5206@uucpa.org
DTSTART;TZID=America/Los_Angeles;VALUE=DATE:20181014
DTEND;TZID=America/Los_Angeles;VALUE=DATE:20181015
DTSTAMP:20181003T131231Z
URL:https://www.uucpa.org/events/donation-deadline-for-the-uucpa-auction/
SUMMARY:Donation Deadline for the UUCPA Auction
DESCRIPTION:Donation Deadline for the UUCPA Auction  Donations needed!  To
 day (October 14) is the deadline to submit items/events for the November 3
 rd UUCPA Auction for the printed catalog.\n\nA donation might be an object
 \, like a piece of art\, some wonderful food\, or something unique and han
 dmade. It might be a service – what skills do you have that would be hel
 pful to others at UUCPA? Or it might be an event\, like a party\, a lunch 
 or dinner\, or an outing to a fun spot. Events have a double benefit – t
 hey build community while they make money for the church. They also sell o
 ut quickly. And here’s some great news. The deadline for donations has 
 been extended to October 14.\n\nYou can enter your donation using this on
 line form: http://bit.ly/2xKGteI or email it to auction@uucpa.org. Anot
 her option is to turn in your description at the Auction table on the pati
 o (we have paper forms there).\n\nCan’t wait to see you at the Auction!!
 \n\nFor more information\, please check our web page: https://www.uucpa.o
 rg/whats-happening/special-events/all-church-auction/ 
CATEGORIES:Special Events
END:VEVENT
BEGIN:VTIMEZONE
TZID:America/Los_Angeles
X-LIC-LOCATION:America/Los_Angeles
BEGIN:DAYLIGHT
DTSTART:20180311T030000
TZOFFSETFROM:-0800
TZOFFSETTO:-0700
TZNAME:PDT
END:DAYLIGHT
END:VTIMEZONE
END:VCALENDAR