BEGIN:VCALENDAR
VERSION:2.0
PRODID:-//wp-events-plugin.com//7.2.2.1//EN
TZID:America/Los_Angeles
X-WR-TIMEZONE:America/Los_Angeles
BEGIN:VEVENT
UID:14468@uucpa.org
DTSTART;TZID=America/Los_Angeles:20240505T113000
DTEND;TZID=America/Los_Angeles:20240505T123000
DTSTAMP:20240411T171700Z
URL:https://www.uucpa.org/events/empty-nest-parent-group/
SUMMARY:Empty Nest Parent Group
DESCRIPTION:Empty Nest Parent Group  This is a brand new affinity group for
  parents whose kids have recently graduated and are fledgling off into the
  world. Join us for conversation and connection.\n 
ATTACH;FMTTYPE=image/jpeg:https://www.uucpa.org/wp-content/uploads/2024/04
 /Empty-Nest-Parent-Group.png
CATEGORIES:Children &amp; Youth,Learning,Parents
LOCATION:Hamaker Library
X-APPLE-STRUCTURED-LOCATION;VALUE=URI;X-ADDRESS=UUCPA\, 505 E. Charleston R
 d.\, Palo Alto\, CA\, 94306\, United States;X-APPLE-RADIUS=100;X-TITLE=Ham
 aker Library:geo:0,0
END:VEVENT
BEGIN:VTIMEZONE
TZID:America/Los_Angeles
X-LIC-LOCATION:America/Los_Angeles
BEGIN:DAYLIGHT
DTSTART:20240310T030000
TZOFFSETFROM:-0800
TZOFFSETTO:-0700
TZNAME:PDT
END:DAYLIGHT
END:VTIMEZONE
END:VCALENDAR