BEGIN:VCALENDAR
VERSION:2.0
PRODID:-//wp-events-plugin.com//7.2.2.1//EN
TZID:America/Los_Angeles
X-WR-TIMEZONE:America/Los_Angeles
BEGIN:VEVENT
UID:285@uucpa.org
DTSTART;TZID=America/Los_Angeles:20161002T123000
DTEND;TZID=America/Los_Angeles:20161002T140000
DTSTAMP:20160629T221538Z
URL:https://www.uucpa.org/events/environmental-crisis-religious-education-
 local-faith-community/
SUMMARY:Environmental Crisis\, Religious Education\, and the Local Faith Co
 mmunity
DESCRIPTION:Environmental Crisis\, Religious Education\, and the Local Fait
 h Community  This workshop will be based on a paper that Rev. Dan Harper p
 resented at the “Sacred Texts\, Human Contexts” conference in May 2016
 \, an interfaith conference organized by progressive Muslim\, Christian\, 
 and Jewish scholars to explore ways to improve interfaith understanding an
 d cooperation. The 2016 conference focused on interfaith responses to the 
 current environmental crisis.\n\nWhen we look at organized religion’s re
 sponse to the contemporary environmental crisis\, to what extent should we
  focus on sacred texts? The answer will depend on the specific situation o
 f a local faith community\, worldwide changes in organized religion\, and 
 other influences. Dan suggests that sacred texts have only a small role in
  our local faith community.\n\n&nbsp\;\n\nContact:           Dan 
 Harper (danharper@uucpa.org)\n\nPresenter:       Dan Harper\n\nRegist
 ration:   Not required\n\n&nbsp\; 
CATEGORIES:Adult,Classes,Learning
LOCATION:Fireside Room and Zoom
GEO:37.419574;-122.112498
X-APPLE-STRUCTURED-LOCATION;VALUE=URI;X-ADDRESS=505 E Charleston Rd\, Palo 
 Alto\, CA\, 94306\, United States;X-APPLE-RADIUS=100;X-TITLE=Fireside Room
  and Zoom:geo:37.419574,-122.112498
END:VEVENT
BEGIN:VTIMEZONE
TZID:America/Los_Angeles
X-LIC-LOCATION:America/Los_Angeles
BEGIN:DAYLIGHT
DTSTART:20160313T030000
TZOFFSETFROM:-0800
TZOFFSETTO:-0700
TZNAME:PDT
END:DAYLIGHT
END:VTIMEZONE
END:VCALENDAR