BEGIN:VCALENDAR
VERSION:2.0
PRODID:-//wp-events-plugin.com//7.2.2.1//EN
TZID:America/Los_Angeles
X-WR-TIMEZONE:America/Los_Angeles
BEGIN:VEVENT
UID:11534@uucpa.org
DTSTART;TZID=America/Los_Angeles:20220918T100000
DTEND;TZID=America/Los_Angeles:20220918T130000
DTSTAMP:20220903T165310Z
URL:https://www.uucpa.org/events/ev-expo/
SUMMARY:EV Expo at UUCPA
DESCRIPTION:EV Expo at UUCPA  Are you thinking your next vehicle purchase w
 ill be an electric?  Are you concerned that EVs are priced outside your b
 udget?  If yes to either\, come to UUCPA’s EV Expo on Sunday\, Septembe
 r 18\, from 10 to 1 at the rear of the main parking lot.  The Green Sanct
 uary Committee will be hosting the Expo in collaboration with Acterra\, a 
 long-time Palo Alto environmental non-profit with lots of experience prese
 nting EV Expos.  We’ll also offer a game or two for younger children.\n
 \nYou’ll be able to view about 15 different models from Tesla\, Rivian\,
  Nissan\, Ford\, GM\, Fiat and others.  The owners will be standing or si
 tting by their cars so they can provide answers to your questions from rea
 l-world experience.  And we will offer general pricing info AND info for 
 a service that’s designed to connect buyers with available used EVs.\n\n
 Please put this on your calendar.  We want you to come to the Expo!\n\nTh
 e Green Sanctuary Team at UUCPA 
ATTACH;FMTTYPE=image/jpeg:https://www.uucpa.org/wp-content/uploads/2022/08
 /EV-Expo.png
CATEGORIES:Justice,Justice Projects,Special Events
LOCATION:UUCPA
GEO:37.419574;-122.11249800000002
X-APPLE-STRUCTURED-LOCATION;VALUE=URI;X-ADDRESS=505 E Charleston Rd\, Palo 
 Alto\, CA\, 94306\, United States;X-APPLE-RADIUS=100;X-TITLE=UUCPA:geo:37.
 419574,-122.11249800000002
END:VEVENT
BEGIN:VTIMEZONE
TZID:America/Los_Angeles
X-LIC-LOCATION:America/Los_Angeles
BEGIN:DAYLIGHT
DTSTART:20220313T030000
TZOFFSETFROM:-0800
TZOFFSETTO:-0700
TZNAME:PDT
END:DAYLIGHT
END:VTIMEZONE
END:VCALENDAR