BEGIN:VCALENDAR
VERSION:2.0
PRODID:-//wp-events-plugin.com//7.2.2.1//EN
TZID:America/Los_Angeles
X-WR-TIMEZONE:America/Los_Angeles
BEGIN:VEVENT
UID:4489@uucpa.org
DTSTART;TZID=America/Los_Angeles:20181104T130000
DTEND;TZID=America/Los_Angeles:20181104T150000
DTSTAMP:20181104T164823Z
URL:https://www.uucpa.org/events/exploring-mind-hands-spirit-and-heart-thr
 ough-art-2-2018-11-04/
SUMMARY:Exploring Mind\, Hands\, Spirit and Heart Through Art- November 4th
  Session Canceled
DESCRIPTION:Exploring Mind\, Hands\, Spirit and Heart Through Art- November
  4th Session Canceled  The November 4th session has been canceled.  We'll
  resume on Sunday\, December 2nd.\n\nGive your hands and heart a gift by e
 njoying two hours on a Sunday doing simple and profound art exercises. If 
 you think you have no artistic talent\, you will be amazed by what you can
  do. Each session stands alone\, but the exercises and community also buil
 d on each other. All materials are provided. For people of any age who can
  sustain an interest for two hours.\n\nDate: First Sundays: Aug 5\, Sep 2
 \, Oct 7\, Nov 4\, Dec 2\nTime: 1-3 pm\nLocation: Room 4-5\nFacilitator:
  Amy Zucker Morgenstern\nContact: Amy Zucker Morgenstern (parishmin@uucp
 a.org)\nRegistration: Not required 
ATTACH;FMTTYPE=image/jpeg:https://www.uucpa.org/wp-content/uploads/2018/06
 /Exploring-Art-1.png
CATEGORIES:Classes
LOCATION:Room 4/5
GEO:37.419574;-122.11249800000002
X-APPLE-STRUCTURED-LOCATION;VALUE=URI;X-ADDRESS=505 E Charleston Rd\, Palo 
 Alto\, CA\, 94306\, United States;X-APPLE-RADIUS=100;X-TITLE=Room 4/5:geo:
 37.419574,-122.11249800000002
END:VEVENT
BEGIN:VTIMEZONE
TZID:America/Los_Angeles
X-LIC-LOCATION:America/Los_Angeles
BEGIN:STANDARD
DTSTART:20181104T010000
TZOFFSETFROM:-0700
TZOFFSETTO:-0800
TZNAME:PST
END:STANDARD
END:VTIMEZONE
END:VCALENDAR