BEGIN:VCALENDAR
VERSION:2.0
PRODID:-//wp-events-plugin.com//7.2.2.1//EN
TZID:America/Los_Angeles
X-WR-TIMEZONE:America/Los_Angeles
BEGIN:VEVENT
UID:1454@uucpa.org
DTSTART;TZID=America/Los_Angeles:20170608T193000
DTEND;TZID=America/Los_Angeles:20170608T211500
DTSTAMP:20170608T173719Z
URL:https://www.uucpa.org/events/film-from-the-ashes-presented-by-uucpas-g
 reen-sanctuary/
SUMMARY:Film "From the Ashes" - Presented by UUCPA's Green Sanctuary
DESCRIPTION:Film &quot\;From the Ashes&quot\; - Presented by UUCPA&#039\;s 
 Green Sanctuary  "From the Ashes\," a film directed by Michael Bonfiglio\,
  attempts and partly succeeds in exposing many issues behind the “war on
  coal”.  Coal powered industry in the 19th and much of the 20th century
 .  It has been called a 19th century fuel by at least one major environme
 ntal organization\, yet it continues to fuel much of the US electricity ge
 neration and a majority of the “things” we in the US buy from China an
 d India.\n\n&nbsp\;\n\nCoal must be replaced as a fuel if the planet is to
  continue to be hospitable to human and much other life\; yet there are ma
 ny other aspects to the “war on coal”.  We invite you to come view th
 is remarkable documentary on Thursday evening\, June 8.\n\n&nbsp\;\n\nWher
 e: UU Church of Palo Alto\, 505 E Charleston\, Palo Alto\n\nWhen: 7:30 PM\
 n\nLength: about 80 minutes\n\nTime for Discussion: about 15 minutes\n\nRe
 freshments: light (not a substitute for dinner)\n\nCost: free (donations w
 ill be cheerfully accepted)\n\n&nbsp\;\n\nSee the trailer here https://ww
 w.fromtheashesfilm.com and come join us for the full showing.\n\n&nbsp\;\
 n\nGreen Sanctuary Committee of the UU Church 
CATEGORIES:Green Sanctuary
LOCATION:Main Hall
X-APPLE-STRUCTURED-LOCATION;VALUE=URI;X-ADDRESS=505 E Charleston Rd\, Palo 
 Alto\, CA\, 94306\, United States;X-APPLE-RADIUS=100;X-TITLE=Main Hall:geo
 :0,0
END:VEVENT
BEGIN:VTIMEZONE
TZID:America/Los_Angeles
X-LIC-LOCATION:America/Los_Angeles
BEGIN:DAYLIGHT
DTSTART:20170312T030000
TZOFFSETFROM:-0800
TZOFFSETTO:-0700
TZNAME:PDT
END:DAYLIGHT
END:VTIMEZONE
END:VCALENDAR