BEGIN:VCALENDAR
VERSION:2.0
PRODID:-//wp-events-plugin.com//7.2.2.1//EN
TZID:America/Los_Angeles
X-WR-TIMEZONE:America/Los_Angeles
BEGIN:VEVENT
UID:5492@uucpa.org
DTSTART;TZID=America/Los_Angeles:20190421T121500
DTEND;TZID=America/Los_Angeles:20190421T133000
DTSTAMP:20190324T191429Z
URL:https://www.uucpa.org/events/fireside-room-audio-video-training/
SUMMARY:Fireside Room Audio/Video Training
DESCRIPTION:Fireside Room Audio/Video Training  Byron Brown will lead a tra
 ining class on Easter Sunday immediately after the second service. He and 
 other members of the Audio Committee have been working hard to improve the
  audio and video setup in the Fireside Room. If you have used or plan to u
 se the Fireside Room for your meetings\, this class will benefit you! Writ
 ten instructions accompany the training. Board members\, ARE Committee mem
 bers\, and Forum regulars are encouraged to attend. 
CATEGORIES:Classes
LOCATION:Fireside Room
GEO:37.419574;-122.11249800000002
X-APPLE-STRUCTURED-LOCATION;VALUE=URI;X-ADDRESS=505 E Charleston Road\, Pal
 o Alto\, CA\, 94306\, United States;X-APPLE-RADIUS=100;X-TITLE=Fireside Ro
 om:geo:37.419574,-122.11249800000002
END:VEVENT
BEGIN:VTIMEZONE
TZID:America/Los_Angeles
X-LIC-LOCATION:America/Los_Angeles
BEGIN:DAYLIGHT
DTSTART:20190310T030000
TZOFFSETFROM:-0800
TZOFFSETTO:-0700
TZNAME:PDT
END:DAYLIGHT
END:VTIMEZONE
END:VCALENDAR