BEGIN:VCALENDAR
VERSION:2.0
PRODID:-//wp-events-plugin.com//7.2.2.1//EN
TZID:America/Los_Angeles
X-WR-TIMEZONE:America/Los_Angeles
BEGIN:VEVENT
UID:16873@uucpa.org
DTSTART;TZID=America/Los_Angeles:20250908T183000
DTEND;TZID=America/Los_Angeles:20250908T193000
DTSTAMP:20250901T015102Z
URL:https://www.uucpa.org/events/first-monday-film-discussion-group-2025-0
 9-01/
SUMMARY:First Monday Film Discussion Group
DESCRIPTION:First Monday Film Discussion Group  \nWe gather via Zoom on the
  first Monday of the month for an hourlong discussion of a movie we have c
 hosen and each watched ahead of time. Group members add to the list of mov
 ies\, the only strictures being that they must be available at no cost\, f
 or example on library sites such as Kanopy or Hoopla. (You might want to r
 egister for Kanopy for ease of future viewing.) Then\, each month\, the gr
 oup votes on the next movie.\n\n\n\nEmail Bruce England with any questions
  and to receive the Zoom link.\n 
CATEGORIES:Adult,Adults,Ongoing Events,Small Groups
END:VEVENT
BEGIN:VTIMEZONE
TZID:America/Los_Angeles
X-LIC-LOCATION:America/Los_Angeles
BEGIN:DAYLIGHT
DTSTART:20250309T030000
TZOFFSETFROM:-0800
TZOFFSETTO:-0700
TZNAME:PDT
END:DAYLIGHT
END:VTIMEZONE
END:VCALENDAR