BEGIN:VCALENDAR
VERSION:2.0
PRODID:-//wp-events-plugin.com//7.2.2.1//EN
TZID:America/Los_Angeles
X-WR-TIMEZONE:America/Los_Angeles
BEGIN:VEVENT
UID:6077@uucpa.org
DTSTART;TZID=America/Los_Angeles:20200405T103000
DTEND;TZID=America/Los_Angeles:20200405T110000
DTSTAMP:20200319T143632Z
URL:https://www.uucpa.org/events/first-sunday-sing-out-2-2020-04-05/
SUMMARY:First Sunday Sing Out - Canceled
DESCRIPTION:First Sunday Sing Out - Canceled  UUCPA is closed to in-person 
 events through April 7\, 2020.  In-person singing events are canceled.\n\
 nCome sing with us! We’ll sing favorite songs from the book Rise Up Sing
 ing. Anyone who likes to sing is welcome – and if you play guitar\, banj
 o\, ukulele\, autoharp\, etc.\, you are also welcome to bring your instrum
 ent and join in. Please note that the time will change in June and July wh
 en the church goes to one service.\n\nLocation:         Various\, u
 sually on the patio\, Fireside Room in case of rain\n\nContact:      
      Eric Bier (firstsundaysing@uucpa.org)\n\nRegistration:   Not requ
 ired\n\nhttps://www.uucpa.org/connection/affinity-groups/first-sunday-sing
 -community-singing/ 
CATEGORIES:Music
LOCATION:Patio
GEO:37.419574;-122.11249800000002
X-APPLE-STRUCTURED-LOCATION;VALUE=URI;X-ADDRESS=505 E Charleston Rd\, Palo 
 Alto\, CA\, 94306\, United States;X-APPLE-RADIUS=100;X-TITLE=Patio:geo:37.
 419574,-122.11249800000002
END:VEVENT
BEGIN:VTIMEZONE
TZID:America/Los_Angeles
X-LIC-LOCATION:America/Los_Angeles
BEGIN:DAYLIGHT
DTSTART:20200308T030000
TZOFFSETFROM:-0800
TZOFFSETTO:-0700
TZNAME:PDT
END:DAYLIGHT
END:VTIMEZONE
END:VCALENDAR