BEGIN:VCALENDAR
VERSION:2.0
PRODID:-//wp-events-plugin.com//7.2.2.1//EN
TZID:America/Los_Angeles
X-WR-TIMEZONE:America/Los_Angeles
BEGIN:VEVENT
UID:13220@uucpa.org
DTSTART;TZID=America/Los_Angeles:20230813T083000
DTEND;TZID=America/Los_Angeles:20230813T100000
DTSTAMP:20230805T234526Z
URL:https://www.uucpa.org/events/forum-10-2023-08-13/
SUMMARY:Forum:
DESCRIPTION:Forum:  Discussion Topic: Experiences that have Changed the Dir
 ection of Your Life -- General Discussion\n\nDiscussion Facilitator -- Sar
 ah Doxiadis\n\nThe Forum meets in the Fireside Room\, as well as by Zoom\
 , on the second Sunday of each month.  On all other Sundays\, it meets in
  the church library\, as well as by Zoom.  The link will be emailed to me
 mbers of forum-announce@uucpa.org. If you aren’t already in that group 
 (or if you aren’t sure)\, please request to join by 6 pm Saturday evenin
 g for the next day’s meeting info by sending an email to forum-announce
 +subscribe@uucpa.org.\n\nEveryone is welcome to come and participate in a 
 stimulating discussion. There is nothing to “join”. If you are attendi
 ng in person\, you can just drop in. Topics are chosen by the group about 
 one month ahead.\n\nFor more information\, visit our Forum page. 
ATTACH;FMTTYPE=image/jpeg:https://www.uucpa.org/wp-content/uploads/2023/06
 /Forum-hybrid-meetings-830-start-1.png
CATEGORIES:Forum,Small Groups
LOCATION:Fireside Room
GEO:37.419574;-122.11249800000002
X-APPLE-STRUCTURED-LOCATION;VALUE=URI;X-ADDRESS=505 E Charleston Road\, Pal
 o Alto\, CA\, 94306\, United States;X-APPLE-RADIUS=100;X-TITLE=Fireside Ro
 om:geo:37.419574,-122.11249800000002
END:VEVENT
BEGIN:VTIMEZONE
TZID:America/Los_Angeles
X-LIC-LOCATION:America/Los_Angeles
BEGIN:DAYLIGHT
DTSTART:20230312T030000
TZOFFSETFROM:-0800
TZOFFSETTO:-0700
TZNAME:PDT
END:DAYLIGHT
END:VTIMEZONE
END:VCALENDAR