BEGIN:VCALENDAR
VERSION:2.0
PRODID:-//wp-events-plugin.com//7.2.2.1//EN
TZID:America/Los_Angeles
X-WR-TIMEZONE:America/Los_Angeles
BEGIN:VEVENT
UID:13221@uucpa.org
DTSTART;TZID=America/Los_Angeles:20230820T083000
DTEND;TZID=America/Los_Angeles:20230820T100000
DTSTAMP:20230803T195001Z
URL:https://www.uucpa.org/events/forum-10-2023-08-20/
SUMMARY:Forum
DESCRIPTION:Forum  Discussion Topic: Worrying: Pro and Con -- General Discu
 ssion\n\nDiscussion Facilitator: Susan Owicki\n\nThe Forum meets in the F
 ireside Room\, as well as by Zoom\, on the second Sunday of each month.  
 On all other Sundays\, it meets in the church library\, as well as by Zoom
 .  The link will be emailed to members of forum-announce@uucpa.org. If y
 ou aren’t already in that group (or if you aren’t sure)\, please reque
 st to join by 6 pm Saturday evening for the next day’s meeting info by s
 ending an email to forum-announce+subscribe@uucpa.org.\n\nEveryone is wel
 come to come and participate in a stimulating discussion. There is nothing
  to “join”. If you are attending in person\, you can just drop in. Top
 ics are chosen by the group about one month ahead.\n\nFor more information
 \, visit our Forum page. 
ATTACH;FMTTYPE=image/jpeg:https://www.uucpa.org/wp-content/uploads/2023/06
 /Forum-hybrid-meetings-830-start-1.png
CATEGORIES:Forum,Small Groups
LOCATION:Library
GEO:37.419574;-122.11249800000002
X-APPLE-STRUCTURED-LOCATION;VALUE=URI;X-ADDRESS=505 E. Charleston Rd.\, Pal
 o Alto\, CA\, United States;X-APPLE-RADIUS=100;X-TITLE=Library:geo:37.4195
 74,-122.11249800000002
END:VEVENT
BEGIN:VTIMEZONE
TZID:America/Los_Angeles
X-LIC-LOCATION:America/Los_Angeles
BEGIN:DAYLIGHT
DTSTART:20230312T030000
TZOFFSETFROM:-0800
TZOFFSETTO:-0700
TZNAME:PDT
END:DAYLIGHT
END:VTIMEZONE
END:VCALENDAR