BEGIN:VCALENDAR
VERSION:2.0
PRODID:-//wp-events-plugin.com//7.2.2.1//EN
TZID:America/Los_Angeles
X-WR-TIMEZONE:America/Los_Angeles
BEGIN:VEVENT
UID:14311@uucpa.org
DTSTART;TZID=America/Los_Angeles:20240512T083000
DTEND;TZID=America/Los_Angeles:20240512T100000
DTSTAMP:20240420T214858Z
URL:https://www.uucpa.org/events/forum-12-2024-05-12/
SUMMARY:Forum
DESCRIPTION:Forum  Discussion Topic: Unusual music that makes your lips smi
 le\, your spirits soar\, and your heart sing! \n\nDiscussion Leader: Sarah
  Doxiadis\n\nThe Forum meets in the Fireside Room\, as well as by Zoom\, 
 on the second Sunday of each month.  On all other Sundays\, it meets in t
 he church library\, as well as by Zoom.  The link will be emailed to memb
 ers of forum-announce@uucpa.org. If you aren’t already in that group (o
 r if you aren’t sure)\, please request to join by 6 pm Saturday evening 
 for the next day’s meeting info by sending an email to forum-announce+s
 ubscribe@uucpa.org.\n\nEveryone is welcome to come and participate in a st
 imulating discussion. There is nothing to “join”. If you are attending
  in person\, you can just drop in. Topics are chosen by the group about on
 e month ahead.\n\nFor more information\, visit our Forum page. 
ATTACH;FMTTYPE=image/jpeg:https://www.uucpa.org/wp-content/uploads/2023/06
 /Forum-hybrid-meetings-830-start-1.png
CATEGORIES:Forum,Small Groups
END:VEVENT
BEGIN:VTIMEZONE
TZID:America/Los_Angeles
X-LIC-LOCATION:America/Los_Angeles
BEGIN:DAYLIGHT
DTSTART:20240310T030000
TZOFFSETFROM:-0800
TZOFFSETTO:-0700
TZNAME:PDT
END:DAYLIGHT
END:VTIMEZONE
END:VCALENDAR