BEGIN:VCALENDAR
VERSION:2.0
PRODID:-//wp-events-plugin.com//7.2.2.1//EN
TZID:America/Los_Angeles
X-WR-TIMEZONE:America/Los_Angeles
BEGIN:VEVENT
UID:14316@uucpa.org
DTSTART;TZID=America/Los_Angeles:20240616T083000
DTEND;TZID=America/Los_Angeles:20240616T100000
DTSTAMP:20240512T230922Z
URL:https://www.uucpa.org/events/forum-12-2024-06-16/
SUMMARY:Forum
DESCRIPTION:Forum  Discussion Topic: Why I am (or am not) a Unitarian Unive
 rsalist (including one’s history with other churches)\n\nDiscussion Lead
 er: Susan Owicki\n\nThe Forum meets in the Fireside Room\, as well as by Z
 oom\, on the second Sunday of each month.  On all other Sundays\, it meet
 s in the church library\, as well as by Zoom.  The link will be emailed t
 o members of forum-announce@uucpa.org. If you aren’t already in that gr
 oup (or if you aren’t sure)\, please request to join by 6 pm Saturday ev
 ening for the next day’s meeting info by sending an email to forum-anno
 unce+subscribe@uucpa.org.\n\nEveryone is welcome to come and participate i
 n a stimulating discussion. There is nothing to “join”. If you are att
 ending in person\, you can just drop in. Topics are chosen by the group ab
 out one month ahead.\n\nFor more information\, visit our Forum page. 
ATTACH;FMTTYPE=image/jpeg:https://www.uucpa.org/wp-content/uploads/2023/06
 /Forum-hybrid-meetings-830-start-1.png
CATEGORIES:Forum,Small Groups
LOCATION:Library
GEO:37.419574;-122.11249800000002
X-APPLE-STRUCTURED-LOCATION;VALUE=URI;X-ADDRESS=505 E. Charleston Rd.\, Pal
 o Alto\, CA\, United States;X-APPLE-RADIUS=100;X-TITLE=Library:geo:37.4195
 74,-122.11249800000002
END:VEVENT
BEGIN:VTIMEZONE
TZID:America/Los_Angeles
X-LIC-LOCATION:America/Los_Angeles
BEGIN:DAYLIGHT
DTSTART:20240310T030000
TZOFFSETFROM:-0800
TZOFFSETTO:-0700
TZNAME:PDT
END:DAYLIGHT
END:VTIMEZONE
END:VCALENDAR