BEGIN:VCALENDAR
VERSION:2.0
PRODID:-//wp-events-plugin.com//7.2.2.1//EN
TZID:America/Los_Angeles
X-WR-TIMEZONE:America/Los_Angeles
BEGIN:VEVENT
UID:14692@uucpa.org
DTSTART;TZID=America/Los_Angeles:20250112T083000
DTEND;TZID=America/Los_Angeles:20250112T100000
DTSTAMP:20241204T043537Z
URL:https://www.uucpa.org/events/forum-13-2025-01-12/
SUMMARY:Forum
DESCRIPTION:Forum  Discussion Topic: How we use energy and generate power i
 n America \n\nDiscussion Leader: Richard Heydt\n\nThe Forum meets in the 
 Fireside Room\, as well as by Zoom\, on the second Sunday of each month. 
  On all other Sundays\, it meets in the church library\, as well as by Zoo
 m.  The link will be emailed to members of forum-announce@uucpa.org. If 
 you aren’t already in that group (or if you aren’t sure)\, please requ
 est to join by 6 pm Saturday evening for the next day’s meeting info by 
 sending an email to forum-announce+subscribe@uucpa.org.\n\nEveryone is we
 lcome to come and participate in a stimulating discussion. There is nothin
 g to “join”. If you are attending in person\, you can just drop in. To
 pics are chosen by the group about one month ahead.\n\nFor more informatio
 n\, visit our Forum page. 
ATTACH;FMTTYPE=image/jpeg:https://www.uucpa.org/wp-content/uploads/2023/06
 /Forum-hybrid-meetings-830-start-1.png
CATEGORIES:Forum,Small Groups
LOCATION:Fireside Room
GEO:37.419574;-122.11249800000002
X-APPLE-STRUCTURED-LOCATION;VALUE=URI;X-ADDRESS=505 E Charleston Road\, Pal
 o Alto\, CA\, 94306\, United States;X-APPLE-RADIUS=100;X-TITLE=Fireside Ro
 om:geo:37.419574,-122.11249800000002
END:VEVENT
BEGIN:VTIMEZONE
TZID:America/Los_Angeles
X-LIC-LOCATION:America/Los_Angeles
BEGIN:STANDARD
DTSTART:20241103T010000
TZOFFSETFROM:-0700
TZOFFSETTO:-0800
TZNAME:PST
END:STANDARD
END:VTIMEZONE
END:VCALENDAR