BEGIN:VCALENDAR
VERSION:2.0
PRODID:-//wp-events-plugin.com//7.2.2.1//EN
TZID:America/Los_Angeles
X-WR-TIMEZONE:America/Los_Angeles
BEGIN:VEVENT
UID:14716@uucpa.org
DTSTART;TZID=America/Los_Angeles:20250629T083000
DTEND;TZID=America/Los_Angeles:20250629T100000
DTSTAMP:20250523T172423Z
URL:https://www.uucpa.org/events/forum-13-2025-06-29/
SUMMARY:Forum
DESCRIPTION:Forum  Discussion Topic: Discussion of Matters of Current Local
 \, National\, &amp\; International Interest\, &amp\; Selection of Forum Di
 scussion Topics for August\n\nThe Forum meets in the Fireside Room\, as w
 ell as by Zoom\, on the second Sunday of each month.  On all other Sunday
 s\, it meets in the church library\, as well as by Zoom.  The link will b
 e emailed to members of forum-announce@uucpa.org. If you aren’t already
  in that group (or if you aren’t sure)\, please request to join by 6 pm 
 Saturday evening for the next day’s meeting info by sending an email to
  forum-announce+subscribe@uucpa.org.\n\nEveryone is welcome to come and p
 articipate in a stimulating discussion. There is nothing to “join”. If
  you are attending in person\, you can just drop in. Topics are chosen by 
 the group about one month ahead.\n\nFor more information\, visit our Forum
  page. 
ATTACH;FMTTYPE=image/jpeg:https://www.uucpa.org/wp-content/uploads/2023/06
 /Forum-hybrid-meetings-830-start-1.png
CATEGORIES:Forum,Small Groups
LOCATION:Library
GEO:37.419574;-122.11249800000002
X-APPLE-STRUCTURED-LOCATION;VALUE=URI;X-ADDRESS=505 E. Charleston Rd.\, Pal
 o Alto\, CA\, United States;X-APPLE-RADIUS=100;X-TITLE=Library:geo:37.4195
 74,-122.11249800000002
END:VEVENT
BEGIN:VTIMEZONE
TZID:America/Los_Angeles
X-LIC-LOCATION:America/Los_Angeles
BEGIN:DAYLIGHT
DTSTART:20250309T030000
TZOFFSETFROM:-0800
TZOFFSETTO:-0700
TZNAME:PDT
END:DAYLIGHT
END:VTIMEZONE
END:VCALENDAR