BEGIN:VCALENDAR
VERSION:2.0
PRODID:-//wp-events-plugin.com//7.2.2.1//EN
TZID:America/Los_Angeles
X-WR-TIMEZONE:America/Los_Angeles
BEGIN:VEVENT
UID:16936@uucpa.org
DTSTART;TZID=America/Los_Angeles:20251019T084500
DTEND;TZID=America/Los_Angeles:20251019T101500
DTSTAMP:20251025T175210Z
URL:https://www.uucpa.org/events/forum-14-2025-10-19/
SUMMARY:Forum
DESCRIPTION:Forum  Discussion Topic: Inspiring Quotes and Sayings\n\nDiscus
 sion Leader: Dick Duda\n\nThe Forum meets in the Fireside Room\, as well 
 as by Zoom\, on the second Sunday of each month.  On all other Sundays\, 
 it meets in the church library\, as well as by Zoom.  The link will be em
 ailed to members of forum-announce@uucpa.org. If you aren’t already in 
 that group (or if you aren’t sure)\, please request to join by 6 pm Satu
 rday evening for the next day’s meeting info by sending an email to for
 um-announce+subscribe@uucpa.org.\n\nEveryone is welcome to come and partic
 ipate in a stimulating discussion. There is nothing to “join”. If you 
 are attending in person\, you can just drop in. Topics are chosen by the g
 roup about one month ahead.\n\nFor more information\, visit our Forum page
 . 
ATTACH;FMTTYPE=image/jpeg:https://www.uucpa.org/wp-content/uploads/2025/06
 /Forum-hybrid-meetings-845-start.png
CATEGORIES:Forum,Small Groups
LOCATION:Library
GEO:37.419574;-122.11249800000002
X-APPLE-STRUCTURED-LOCATION;VALUE=URI;X-ADDRESS=505 E. Charleston Rd.\, Pal
 o Alto\, CA\, United States;X-APPLE-RADIUS=100;X-TITLE=Library:geo:37.4195
 74,-122.11249800000002
END:VEVENT
BEGIN:VTIMEZONE
TZID:America/Los_Angeles
X-LIC-LOCATION:America/Los_Angeles
BEGIN:DAYLIGHT
DTSTART:20250309T030000
TZOFFSETFROM:-0800
TZOFFSETTO:-0700
TZNAME:PDT
END:DAYLIGHT
END:VTIMEZONE
END:VCALENDAR