BEGIN:VCALENDAR
VERSION:2.0
PRODID:-//wp-events-plugin.com//7.2.2.1//EN
TZID:America/Los_Angeles
X-WR-TIMEZONE:America/Los_Angeles
BEGIN:VEVENT
UID:16951@uucpa.org
DTSTART;TZID=America/Los_Angeles:20260201T084500
DTEND;TZID=America/Los_Angeles:20260201T101500
DTSTAMP:20260110T045021Z
URL:https://www.uucpa.org/events/forum-14-2026-02-01/
SUMMARY:Forum
DESCRIPTION:Forum  Discussion Topic: Things that we keep because they helpe
 d to define who we were\n\nDiscussion Leader: Ann Zeise\n\nThe Forum meets
  in the Fireside Room\, as well as by Zoom\, on the second Sunday of each 
 month.  On all other Sundays\, it meets in the church library\, as well a
 s by Zoom.  The link will be emailed to members of forum-announce@uucpa.
 org. If you aren’t already in that group (or if you aren’t sure)\, ple
 ase request to join by 6 pm Saturday evening for the next day’s meeting 
 info by sending an email to forum-announce+subscribe@uucpa.org.\n\nEveryo
 ne is welcome to come and participate in a stimulating discussion. There i
 s nothing to “join”. If you are attending in person\, you can just dro
 p in. Topics are chosen by the group about one month ahead.\n\nFor more in
 formation\, visit our Forum page. 
ATTACH;FMTTYPE=image/jpeg:https://www.uucpa.org/wp-content/uploads/2025/06
 /Forum-hybrid-meetings-845-start.png
CATEGORIES:Forum,Small Groups
LOCATION:Library
GEO:37.419574;-122.11249800000002
X-APPLE-STRUCTURED-LOCATION;VALUE=URI;X-ADDRESS=505 E. Charleston Rd.\, Pal
 o Alto\, CA\, United States;X-APPLE-RADIUS=100;X-TITLE=Library:geo:37.4195
 74,-122.11249800000002
END:VEVENT
BEGIN:VTIMEZONE
TZID:America/Los_Angeles
X-LIC-LOCATION:America/Los_Angeles
BEGIN:STANDARD
DTSTART:20251102T010000
TZOFFSETFROM:-0700
TZOFFSETTO:-0800
TZNAME:PST
END:STANDARD
END:VTIMEZONE
END:VCALENDAR