BEGIN:VCALENDAR
VERSION:2.0
PRODID:-//wp-events-plugin.com//7.2.2.1//EN
TZID:America/Los_Angeles
X-WR-TIMEZONE:America/Los_Angeles
BEGIN:VEVENT
UID:16956@uucpa.org
DTSTART;TZID=America/Los_Angeles:20260308T084500
DTEND;TZID=America/Los_Angeles:20260308T101500
DTSTAMP:20260203T030954Z
URL:https://www.uucpa.org/events/forum-14-2026-03-08/
SUMMARY:Forum
DESCRIPTION:Forum  Discussion Topic: Ideas for reforming healthcare\n\nDisc
 ussion Leader: Michael Abramson\n\nThe Forum meets in the Fireside Room\,
  as well as by Zoom\, on the second Sunday of each month.  On all other S
 undays\, it meets in the church library\, as well as by Zoom.  The link w
 ill be emailed to members of forum-announce@uucpa.org. If you aren’t al
 ready in that group (or if you aren’t sure)\, please request to join by 
 6 pm Saturday evening for the next day’s meeting info by sending an emai
 l to forum-announce+subscribe@uucpa.org.\n\nEveryone is welcome to come a
 nd participate in a stimulating discussion. There is nothing to “join”
 . If you are attending in person\, you can just drop in. Topics are chosen
  by the group about one month ahead.\n\nFor more information\, visit our F
 orum page. 
ATTACH;FMTTYPE=image/jpeg:https://www.uucpa.org/wp-content/uploads/2025/06
 /Forum-hybrid-meetings-845-start.png
CATEGORIES:Forum,Small Groups
LOCATION:Fireside Room
GEO:37.419574;-122.11249800000002
X-APPLE-STRUCTURED-LOCATION;VALUE=URI;X-ADDRESS=505 E Charleston Road\, Pal
 o Alto\, CA\, 94306\, United States;X-APPLE-RADIUS=100;X-TITLE=Fireside Ro
 om:geo:37.419574,-122.11249800000002
END:VEVENT
BEGIN:VTIMEZONE
TZID:America/Los_Angeles
X-LIC-LOCATION:America/Los_Angeles
BEGIN:DAYLIGHT
DTSTART:20260308T030000
TZOFFSETFROM:-0800
TZOFFSETTO:-0700
TZNAME:PDT
END:DAYLIGHT
END:VTIMEZONE
END:VCALENDAR