BEGIN:VCALENDAR
VERSION:2.0
PRODID:-//wp-events-plugin.com//7.2.2.1//EN
TZID:America/Los_Angeles
X-WR-TIMEZONE:America/Los_Angeles
BEGIN:VEVENT
UID:16962@uucpa.org
DTSTART;TZID=America/Los_Angeles:20260419T084500
DTEND;TZID=America/Los_Angeles:20260419T101500
DTSTAMP:20260419T210802Z
URL:https://www.uucpa.org/events/forum-14-2026-04-19/
SUMMARY:Forum
DESCRIPTION:Forum  Discussion Topic: The power dilemma: can democracy survi
 ve in the age of AI? \n\nDiscussion Leader: Michael Abramson\n\nThe Forum 
 meets in the Fireside Room\, as well as by Zoom\, on the second Sunday of 
 each month.  On all other Sundays\, it meets in the church library\, as w
 ell as by Zoom.  The link will be emailed to members of forum-announce@u
 ucpa.org. If you aren’t already in that group (or if you aren’t sure)\
 , please request to join by 6 pm Saturday evening for the next day’s mee
 ting info by sending an email to forum-announce+subscribe@uucpa.org.\n\nE
 veryone is welcome to come and participate in a stimulating discussion. Th
 ere is nothing to “join”. If you are attending in person\, you can jus
 t drop in. Topics are chosen by the group about one month ahead.\n\nFor mo
 re information\, visit our Forum page. 
ATTACH;FMTTYPE=image/jpeg:https://www.uucpa.org/wp-content/uploads/2025/06
 /Forum-hybrid-meetings-845-start.png
CATEGORIES:Forum,Small Groups
LOCATION:Library
GEO:37.419574;-122.11249800000002
X-APPLE-STRUCTURED-LOCATION;VALUE=URI;X-ADDRESS=505 E. Charleston Rd.\, Pal
 o Alto\, CA\, United States;X-APPLE-RADIUS=100;X-TITLE=Library:geo:37.4195
 74,-122.11249800000002
END:VEVENT
BEGIN:VTIMEZONE
TZID:America/Los_Angeles
X-LIC-LOCATION:America/Los_Angeles
BEGIN:DAYLIGHT
DTSTART:20260308T030000
TZOFFSETFROM:-0800
TZOFFSETTO:-0700
TZNAME:PDT
END:DAYLIGHT
END:VTIMEZONE
END:VCALENDAR