BEGIN:VCALENDAR
VERSION:2.0
PRODID:-//wp-events-plugin.com//7.2.2.1//EN
TZID:America/Los_Angeles
X-WR-TIMEZONE:America/Los_Angeles
BEGIN:VEVENT
UID:2272@uucpa.org
DTSTART;TZID=America/Los_Angeles:20171203T090000
DTEND;TZID=America/Los_Angeles:20171203T101500
DTSTAMP:20171111T144501Z
URL:https://www.uucpa.org/events/forum-3-2017-12-03/
SUMMARY:Forum - Better Angels of Our Nature — Why Violence Has Declined
DESCRIPTION:Forum - Better Angels of Our Nature — Why Violence Has Declin
 ed  Topic: Better Angels of Our Nature — Why Violence Has Declined\n\nD
 iscussion Leader: Valerie Yakich\n\nThe Forum meets from 9:00 to 10:15 Sun
 day mornings in the Fireside Room. Everyone is welcome to come and partici
 pate in a stimulating discussion. There is nothing to “join”. You can 
 just drop-in. Topics are chosen by the group about one month ahead.\n\nEve
 ryone is welcome.\n\nFor more information\, visit our Forum page. 
CATEGORIES:Forum,Small Groups
LOCATION:Fireside Room
GEO:37.419574;-122.11249800000002
X-APPLE-STRUCTURED-LOCATION;VALUE=URI;X-ADDRESS=505 E Charleston Road\, Pal
 o Alto\, CA\, 94306\, United States;X-APPLE-RADIUS=100;X-TITLE=Fireside Ro
 om:geo:37.419574,-122.11249800000002
END:VEVENT
BEGIN:VTIMEZONE
TZID:America/Los_Angeles
X-LIC-LOCATION:America/Los_Angeles
BEGIN:STANDARD
DTSTART:20171105T010000
TZOFFSETFROM:-0700
TZOFFSETTO:-0800
TZNAME:PST
END:STANDARD
END:VTIMEZONE
END:VCALENDAR