BEGIN:VCALENDAR
VERSION:2.0
PRODID:-//wp-events-plugin.com//7.2.2.1//EN
TZID:America/Los_Angeles
X-WR-TIMEZONE:America/Los_Angeles
BEGIN:VEVENT
UID:2294@uucpa.org
DTSTART;TZID=America/Los_Angeles:20180506T090000
DTEND;TZID=America/Los_Angeles:20180506T101500
DTSTAMP:20180419T110351Z
URL:https://www.uucpa.org/events/forum-3-2018-05-06/
SUMMARY:Forum - On Tyranny\, Twenty Lessons from the Twentieth Century
DESCRIPTION:Forum - On Tyranny\, Twenty Lessons from the Twentieth Century 
  Topic: On Tyranny\, Twenty Lessons from the Twentieth Century by Timoth
 y Snyder\n\nDiscussion Leader: Dick Duda\n\nThe Forum meets from 9:00 to 1
 0:15 Sunday mornings in the Fireside Room. Everyone is welcome to come and
  participate in a stimulating discussion. There is nothing to “join”. 
 You can just drop-in. Topics are chosen by the group about one month ahead
 .\n\nEveryone is welcome.\n\nFor more information\, visit our Forum page. 
CATEGORIES:Forum,Small Groups
LOCATION:Fireside Room
GEO:37.419574;-122.11249800000002
X-APPLE-STRUCTURED-LOCATION;VALUE=URI;X-ADDRESS=505 E Charleston Road\, Pal
 o Alto\, CA\, 94306\, United States;X-APPLE-RADIUS=100;X-TITLE=Fireside Ro
 om:geo:37.419574,-122.11249800000002
END:VEVENT
BEGIN:VTIMEZONE
TZID:America/Los_Angeles
X-LIC-LOCATION:America/Los_Angeles
BEGIN:DAYLIGHT
DTSTART:20180311T030000
TZOFFSETFROM:-0800
TZOFFSETTO:-0700
TZNAME:PDT
END:DAYLIGHT
END:VTIMEZONE
END:VCALENDAR