BEGIN:VCALENDAR
VERSION:2.0
PRODID:-//wp-events-plugin.com//7.2.2.1//EN
TZID:America/Los_Angeles
X-WR-TIMEZONE:America/Los_Angeles
BEGIN:VEVENT
UID:5668@uucpa.org
DTSTART;TZID=America/Los_Angeles:20190721T090000
DTEND;TZID=America/Los_Angeles:20190721T101500
DTSTAMP:20190611T184812Z
URL:https://www.uucpa.org/events/forum-5-2019-07-21/
SUMMARY:Forum - Public Money and Public Banking for Infrastructure and the 
 Green New Deal
DESCRIPTION:Forum - Public Money and Public Banking for Infrastructure and 
 the Green New Deal  Discussion Topic: Public Money and Public Banking for 
 Infrastructure and the Green New Deal\n\nDiscussion Leader: Ron Davis\n\nT
 he Forum meets from 9:00 to 10:15 Sunday mornings in the Fireside Room. Ev
 eryone is welcome to come and participate in a stimulating discussion. The
 re is nothing to “join”. You can just drop-in. Topics are chosen by th
 e group about one month ahead.\n\nEveryone is welcome.\n\nFor more informa
 tion\, visit our Forum page. 
ATTACH;FMTTYPE=image/jpeg:https://www.uucpa.org/wp-content/uploads/2018/05
 /Forum.png
CATEGORIES:Forum
LOCATION:Fireside Room
GEO:37.419574;-122.11249800000002
X-APPLE-STRUCTURED-LOCATION;VALUE=URI;X-ADDRESS=505 E Charleston Road\, Pal
 o Alto\, CA\, 94306\, United States;X-APPLE-RADIUS=100;X-TITLE=Fireside Ro
 om:geo:37.419574,-122.11249800000002
END:VEVENT
BEGIN:VTIMEZONE
TZID:America/Los_Angeles
X-LIC-LOCATION:America/Los_Angeles
BEGIN:DAYLIGHT
DTSTART:20190310T030000
TZOFFSETFROM:-0800
TZOFFSETTO:-0700
TZNAME:PDT
END:DAYLIGHT
END:VTIMEZONE
END:VCALENDAR