BEGIN:VCALENDAR
VERSION:2.0
PRODID:-//wp-events-plugin.com//7.2.2.1//EN
TZID:America/Los_Angeles
X-WR-TIMEZONE:America/Los_Angeles
BEGIN:VEVENT
UID:5692@uucpa.org
DTSTART;TZID=America/Los_Angeles:20200105T090000
DTEND;TZID=America/Los_Angeles:20200105T101500
DTSTAMP:20191202T140306Z
URL:https://www.uucpa.org/events/forum-5-2020-01-05/
SUMMARY:Forum - Back from the Brink – Reducing Nuclear Weapons Risk
DESCRIPTION:Forum - Back from the Brink – Reducing Nuclear Weapons Risk  
 Discussion Topic: Back from the Brink – Reducing Nuclear Weapons Risk\n\
 nDiscussion Leader: Dick Duda\n\nThe Forum meets from 9:00 to 10:15 Sunday
  mornings in the Fireside Room. Everyone is welcome to come and participat
 e in a stimulating discussion. There is nothing to “join”. You can jus
 t drop-in. Topics are chosen by the group about one month ahead.\n\nEveryo
 ne is welcome.\n\nFor more information\, visit our Forum page. 
ATTACH;FMTTYPE=image/jpeg:https://www.uucpa.org/wp-content/uploads/2018/05
 /Forum.png
CATEGORIES:Forum
LOCATION:Fireside Room
GEO:37.419574;-122.11249800000002
X-APPLE-STRUCTURED-LOCATION;VALUE=URI;X-ADDRESS=505 E Charleston Road\, Pal
 o Alto\, CA\, 94306\, United States;X-APPLE-RADIUS=100;X-TITLE=Fireside Ro
 om:geo:37.419574,-122.11249800000002
END:VEVENT
BEGIN:VTIMEZONE
TZID:America/Los_Angeles
X-LIC-LOCATION:America/Los_Angeles
BEGIN:STANDARD
DTSTART:20191103T010000
TZOFFSETFROM:-0700
TZOFFSETTO:-0800
TZNAME:PST
END:STANDARD
END:VTIMEZONE
END:VCALENDAR