BEGIN:VCALENDAR
VERSION:2.0
PRODID:-//wp-events-plugin.com//7.2.2.1//EN
TZID:America/Los_Angeles
X-WR-TIMEZONE:America/Los_Angeles
BEGIN:VEVENT
UID:5707@uucpa.org
DTSTART;TZID=America/Los_Angeles:20200419T090000
DTEND;TZID=America/Los_Angeles:20200419T101500
DTSTAMP:20200413T202051Z
URL:https://www.uucpa.org/events/forum-5-2020-04-19/
SUMMARY:Forum - Rethinking National Security
DESCRIPTION:Forum - Rethinking National Security  New Forum topic for Sunda
 y 4/19\nThe Forum topic for this coming Sunday will be "Rethinking Nationa
 l Security." The discussion will be led by Dick Duda.\n\nThe previous topi
 c was "Economic and Human Rights\," with Ron Davis as the presenter.  Ron
  has had some difficulties with his computer system and had to postpone hi
 s presentation.\n&nbsp\;\n\nThe Forum meets from 9:00 to 10:15 Sunday morn
 ings in the Fireside Room. Everyone is welcome to come and participate in 
 a stimulating discussion. There is nothing to “join”. You can just dro
 p-in. Topics are chosen by the group about one month ahead.\n\nEveryone is
  welcome.\n\nFor more information\, visit our Forum page. 
ATTACH;FMTTYPE=image/jpeg:https://www.uucpa.org/wp-content/uploads/2019/05
 /Copy-of-Forum.png
CATEGORIES:Forum
LOCATION:Fireside Room
GEO:37.419574;-122.11249800000002
X-APPLE-STRUCTURED-LOCATION;VALUE=URI;X-ADDRESS=505 E Charleston Road\, Pal
 o Alto\, CA\, 94306\, United States;X-APPLE-RADIUS=100;X-TITLE=Fireside Ro
 om:geo:37.419574,-122.11249800000002
END:VEVENT
BEGIN:VTIMEZONE
TZID:America/Los_Angeles
X-LIC-LOCATION:America/Los_Angeles
BEGIN:DAYLIGHT
DTSTART:20200308T030000
TZOFFSETFROM:-0800
TZOFFSETTO:-0700
TZNAME:PDT
END:DAYLIGHT
END:VTIMEZONE
END:VCALENDAR