BEGIN:VCALENDAR
VERSION:2.0
PRODID:-//wp-events-plugin.com//7.2.2.1//EN
TZID:America/Los_Angeles
X-WR-TIMEZONE:America/Los_Angeles
BEGIN:VEVENT
UID:8456@uucpa.org
DTSTART;TZID=America/Los_Angeles:20200809T090000
DTEND;TZID=America/Los_Angeles:20200809T101500
DTSTAMP:20200705T155624Z
URL:https://www.uucpa.org/events/forum-6-2020-08-09/
SUMMARY:Forum - Modern News – Fact or Editorial
DESCRIPTION:Forum - Modern News – Fact or Editorial  Discussion Topic: Mo
 dern News – Fact or Editorial\n\nDiscussion Leader: Susan Owicki\n\nThe 
 Forum meets from 9:00 to 10:15 Sunday mornings in the Fireside Room. Every
 one is welcome to come and participate in a stimulating discussion. There 
 is nothing to “join”. You can just drop-in. Topics are chosen by the g
 roup about one month ahead.\n\nIf group gatherings are still not allowed\,
  the Forum will meet via online video conference.  The link will be email
 ed to members of forum-announce@uucpa.org. If you aren’t already in that
  group (or if you aren’t sure)\, please request to join by 9 pm Saturday
  evening for the next day’s meeting info by sending an email to forum-an
 nounce+subscribe@uucpa.org.\n\nEveryone is welcome.\n\nFor more informatio
 n\, visit our Forum page. 
ATTACH;FMTTYPE=image/jpeg:https://www.uucpa.org/wp-content/uploads/2020/03
 /Copy-of-Copy-of-Forum.png
CATEGORIES:Forum
END:VEVENT
BEGIN:VTIMEZONE
TZID:America/Los_Angeles
X-LIC-LOCATION:America/Los_Angeles
BEGIN:DAYLIGHT
DTSTART:20200308T030000
TZOFFSETFROM:-0800
TZOFFSETTO:-0700
TZNAME:PDT
END:DAYLIGHT
END:VTIMEZONE
END:VCALENDAR