BEGIN:VCALENDAR
VERSION:2.0
PRODID:-//wp-events-plugin.com//7.2.2.1//EN
TZID:America/Los_Angeles
X-WR-TIMEZONE:America/Los_Angeles
BEGIN:VEVENT
UID:8457@uucpa.org
DTSTART;TZID=America/Los_Angeles:20200816T090000
DTEND;TZID=America/Los_Angeles:20200816T101500
DTSTAMP:20200705T155707Z
URL:https://www.uucpa.org/events/forum-6-2020-08-16/
SUMMARY:Forum - Why are Governments Leaning Towards Authoritarianism?
DESCRIPTION:Forum - Why are Governments Leaning Towards Authoritarianism?  
 Discussion Topic: Why are Governments Leaning Towards Authoritarianism?\n\
 nDiscussion Leaders: Jerry Strom and Bob Greene\n\nThe Forum meets from 9:
 00 to 10:15 Sunday mornings in the Fireside Room. Everyone is welcome to c
 ome and participate in a stimulating discussion. There is nothing to “jo
 in”. You can just drop-in. Topics are chosen by the group about one mont
 h ahead.\n\nIf group gatherings are still not allowed\, the Forum will mee
 t via online video conference.  The link will be emailed to members of fo
 rum-announce@uucpa.org. If you aren’t already in that group (or if you a
 ren’t sure)\, please request to join by 9 pm Saturday evening for the ne
 xt day’s meeting info by sending an email to forum-announce+subscribe@uu
 cpa.org.\n\nEveryone is welcome.\n\nFor more information\, visit our Forum
  page. 
ATTACH;FMTTYPE=image/jpeg:https://www.uucpa.org/wp-content/uploads/2020/03
 /Copy-of-Copy-of-Forum.png
CATEGORIES:Forum
END:VEVENT
BEGIN:VTIMEZONE
TZID:America/Los_Angeles
X-LIC-LOCATION:America/Los_Angeles
BEGIN:DAYLIGHT
DTSTART:20200308T030000
TZOFFSETFROM:-0800
TZOFFSETTO:-0700
TZNAME:PDT
END:DAYLIGHT
END:VTIMEZONE
END:VCALENDAR