BEGIN:VCALENDAR
VERSION:2.0
PRODID:-//wp-events-plugin.com//7.2.2.1//EN
TZID:America/Los_Angeles
X-WR-TIMEZONE:America/Los_Angeles
BEGIN:VEVENT
UID:8459@uucpa.org
DTSTART;TZID=America/Los_Angeles:20200830T090000
DTEND;TZID=America/Los_Angeles:20200830T101500
DTSTAMP:20200705T155806Z
URL:https://www.uucpa.org/events/forum-6-2020-08-30/
SUMMARY:Forum - Selection of Forum Discussion Topics for October
DESCRIPTION:Forum - Selection of Forum Discussion Topics for October  Dis
 cussion Topic: Discussion of Matters of Current Local\, National\, and Int
 ernational Interest\, and Selection of Forum Discussion Topics for Octob
 er\n\nThe Forum meets from 9:00 to 10:15 Sunday mornings in the Fireside R
 oom. Everyone is welcome to come and participate in a stimulating discussi
 on. There is nothing to “join”. You can just drop-in. Topics are chose
 n by the group about one month ahead.\n\nIf group gatherings are still not
  allowed\, the Forum will meet via online video conference.  The link wil
 l be emailed to members of forum-announce@uucpa.org. If you aren’t alrea
 dy in that group (or if you aren’t sure)\, please request to join by 9 p
 m Saturday evening for the next day’s meeting info by sending an email t
 o forum-announce+subscribe@uucpa.org.\n\nEveryone is welcome.\n\nFor more 
 information\, visit our Forum page. 
ATTACH;FMTTYPE=image/jpeg:https://www.uucpa.org/wp-content/uploads/2020/03
 /Copy-of-Copy-of-Forum.png
CATEGORIES:Forum
END:VEVENT
BEGIN:VTIMEZONE
TZID:America/Los_Angeles
X-LIC-LOCATION:America/Los_Angeles
BEGIN:DAYLIGHT
DTSTART:20200308T030000
TZOFFSETFROM:-0800
TZOFFSETTO:-0700
TZNAME:PDT
END:DAYLIGHT
END:VTIMEZONE
END:VCALENDAR