BEGIN:VCALENDAR
VERSION:2.0
PRODID:-//wp-events-plugin.com//7.2.2.1//EN
TZID:America/Los_Angeles
X-WR-TIMEZONE:America/Los_Angeles
BEGIN:VEVENT
UID:8494@uucpa.org
DTSTART;TZID=America/Los_Angeles:20210502T090000
DTEND;TZID=America/Los_Angeles:20210502T101500
DTSTAMP:20210404T225206Z
URL:https://www.uucpa.org/events/forum-6-2021-05-02/
SUMMARY:Forum - Blanket immunity for religious organizations
DESCRIPTION:Forum - Blanket immunity for religious organizations  Topic - B
 lanket immunity for religious organizations\n\nPresenter - Bill Hilton\n\n
 The Forum meets from 9:00 to 10:15 Sunday mornings. Everyone is welcome to
  come and participate in a stimulating discussion. There is nothing to “
 join”. You can just drop-in. Topics are chosen by the group about one mo
 nth ahead.\n\nThe Forum will meet via online video conference.  The link 
 will be emailed to members of forum-announce@uucpa.org. If you aren’t al
 ready in that group (or if you aren’t sure)\, please request to join by 
 9 pm Saturday evening for the next day’s meeting info by sending an emai
 l to forum-announce+subscribe@uucpa.org.\n\nEveryone is welcome.\n\nFor mo
 re information\, visit our Forum page. 
ATTACH;FMTTYPE=image/jpeg:https://www.uucpa.org/wp-content/uploads/2020/03
 /Copy-of-Copy-of-Forum.png
CATEGORIES:Forum,Small Groups
END:VEVENT
BEGIN:VTIMEZONE
TZID:America/Los_Angeles
X-LIC-LOCATION:America/Los_Angeles
BEGIN:DAYLIGHT
DTSTART:20210314T030000
TZOFFSETFROM:-0800
TZOFFSETTO:-0700
TZNAME:PDT
END:DAYLIGHT
END:VTIMEZONE
END:VCALENDAR