BEGIN:VCALENDAR
VERSION:2.0
PRODID:-//wp-events-plugin.com//7.2.2.1//EN
TZID:America/Los_Angeles
X-WR-TIMEZONE:America/Los_Angeles
BEGIN:VEVENT
UID:9636@uucpa.org
DTSTART;TZID=America/Los_Angeles:20220116T090000
DTEND;TZID=America/Los_Angeles:20220116T101500
DTSTAMP:20220113T052417Z
URL:https://www.uucpa.org/events/forum-7-2022-01-16/
SUMMARY:Forum
DESCRIPTION:Forum  Discussion Topic - Books that changed my mind\n\nDiscuss
 ion Presenter - Warren Schmidt\n\nThe Forum meets from 9:00 to 10:15 Sunda
 y mornings in the Fireside Room. Everyone is welcome to come and participa
 te in a stimulating discussion. There is nothing to “join”. You can ju
 st drop-in. Topics are chosen by the group about one month ahead.\n\nIf gr
 oup gatherings are still not allowed\, the Forum will meet via online vide
 o conference.  The link will be emailed to members of forum-announce@uucp
 a.org. If you aren’t already in that group (or if you aren’t sure)\, p
 lease request to join by 9 pm Saturday evening for the next day’s meetin
 g info by sending an email to forum-announce+subscribe@uucpa.org.\n\nEvery
 one is welcome.\n\nFor more information\, visit our Forum page. 
ATTACH;FMTTYPE=image/jpeg:https://www.uucpa.org/wp-content/uploads/2020/03
 /Copy-of-Copy-of-Forum.png
CATEGORIES:Forum,Small Groups
END:VEVENT
BEGIN:VTIMEZONE
TZID:America/Los_Angeles
X-LIC-LOCATION:America/Los_Angeles
BEGIN:STANDARD
DTSTART:20211107T010000
TZOFFSETFROM:-0700
TZOFFSETTO:-0800
TZNAME:PST
END:STANDARD
END:VTIMEZONE
END:VCALENDAR