BEGIN:VCALENDAR
VERSION:2.0
PRODID:-//wp-events-plugin.com//7.2.2.1//EN
TZID:America/Los_Angeles
X-WR-TIMEZONE:America/Los_Angeles
BEGIN:VEVENT
UID:9639@uucpa.org
DTSTART;TZID=America/Los_Angeles:20220206T090000
DTEND;TZID=America/Los_Angeles:20220206T101500
DTSTAMP:20220113T053626Z
URL:https://www.uucpa.org/events/forum-7-2022-02-06/
SUMMARY:Forum
DESCRIPTION:Forum  Discussion Topic - Pandemic\n\nDiscussion Leaders - Jane
 t Buelow\, Jai Cho\, Trisha Suppes\n\nThe Forum meets from 9:00 to 10:15 S
 unday mornings in the Fireside Room. Everyone is welcome to come and parti
 cipate in a stimulating discussion. There is nothing to “join”. You ca
 n just drop-in. Topics are chosen by the group about one month ahead.\n\nI
 f group gatherings are still not allowed\, the Forum will meet via online 
 video conference.  The link will be emailed to members of forum-announce@
 uucpa.org. If you aren’t already in that group (or if you aren’t sure)
 \, please request to join by 9 pm Saturday evening for the next day’s me
 eting info by sending an email to forum-announce+subscribe@uucpa.org.\n\nE
 veryone is welcome.\n\nFor more information\, visit our Forum page. 
ATTACH;FMTTYPE=image/jpeg:https://www.uucpa.org/wp-content/uploads/2020/03
 /Copy-of-Copy-of-Forum.png
CATEGORIES:Forum,Small Groups
END:VEVENT
BEGIN:VTIMEZONE
TZID:America/Los_Angeles
X-LIC-LOCATION:America/Los_Angeles
BEGIN:STANDARD
DTSTART:20211107T010000
TZOFFSETFROM:-0700
TZOFFSETTO:-0800
TZNAME:PST
END:STANDARD
END:VTIMEZONE
END:VCALENDAR