BEGIN:VCALENDAR
VERSION:2.0
PRODID:-//wp-events-plugin.com//7.2.2.1//EN
TZID:America/Los_Angeles
X-WR-TIMEZONE:America/Los_Angeles
BEGIN:VEVENT
UID:10833@uucpa.org
DTSTART;TZID=America/Los_Angeles:20220501T090000
DTEND;TZID=America/Los_Angeles:20220501T101500
DTSTAMP:20220410T041610Z
URL:https://www.uucpa.org/events/forum-7-2022-05-01/
SUMMARY:Forum
DESCRIPTION:Forum  Discussion Topic: Inflation\, U.S. and worldwide \n\nDis
 cussion Leader: Dave Joki \n\nThe Forum meets from 9:00 to 10:15 Sunday mo
 rnings in the Fireside Room. Everyone is welcome to come and participate i
 n a stimulating discussion. There is nothing to “join”. You can just d
 rop-in. Topics are chosen by the group about one month ahead.\n\nIf group 
 gatherings are still not allowed\, the Forum will meet via online video co
 nference.  The link will be emailed to members of forum-announce@uucpa.or
 g. If you aren’t already in that group (or if you aren’t sure)\, pleas
 e request to join by 9 pm Saturday evening for the next day’s meeting in
 fo by sending an email to forum-announce+subscribe@uucpa.org.\n\nEveryone 
 is welcome.\n\nFor more information\, visit our Forum page. 
ATTACH;FMTTYPE=image/jpeg:https://www.uucpa.org/wp-content/uploads/2020/03
 /Copy-of-Copy-of-Forum.png
CATEGORIES:Forum,Small Groups
END:VEVENT
BEGIN:VTIMEZONE
TZID:America/Los_Angeles
X-LIC-LOCATION:America/Los_Angeles
BEGIN:DAYLIGHT
DTSTART:20220313T030000
TZOFFSETFROM:-0800
TZOFFSETTO:-0700
TZNAME:PDT
END:DAYLIGHT
END:VTIMEZONE
END:VCALENDAR