BEGIN:VCALENDAR
VERSION:2.0
PRODID:-//wp-events-plugin.com//7.2.2.1//EN
TZID:America/Los_Angeles
X-WR-TIMEZONE:America/Los_Angeles
BEGIN:VEVENT
UID:11069@uucpa.org
DTSTART;TZID=America/Los_Angeles:20220911T090000
DTEND;TZID=America/Los_Angeles:20220911T101500
DTSTAMP:20220808T032656Z
URL:https://www.uucpa.org/events/forum-9-2022-09-11/
SUMMARY:Forum
DESCRIPTION:Forum  Discussion Topic - The Opportunities Services Center\, p
 roviding drop-in services for single adults including food\, clothing\, la
 undry/shower facilities \, and case management\n\nDiscussion Leader - Phil
 ip Dah\, Program Director at the Opportunities Service Center\n\nThe Forum
  meets from 9:00 to 10:15 Sunday mornings in the Fireside Room as well as 
 online via Zoom.  To learn more about attending in person\, read this. E
 veryone is welcome to come and participate in a stimulating discussion. Th
 ere is nothing to “join”. You can just drop in. Topics are chosen by t
 he group about one month ahead.\n\nTo attend via video conference\, get th
 e link via email.  The link will be emailed to members of forum-announce
 @uucpa.org. If you aren’t already in that group (or if you aren’t sure
 )\, please request to join by 9 pm Saturday evening for the next day’s m
 eeting info by sending an email to forum-announce+subscribe@uucpa.org.\n\
 nEveryone is welcome.\n\nFor more information\, visit our Forum page. 
ATTACH;FMTTYPE=image/jpeg:https://www.uucpa.org/wp-content/uploads/2022/03
 /Forum-Starts-in-person-meetings.png
CATEGORIES:Forum,Small Groups
LOCATION:Fireside Room
GEO:37.419574;-122.11249800000002
X-APPLE-STRUCTURED-LOCATION;VALUE=URI;X-ADDRESS=505 E Charleston Road\, Pal
 o Alto\, CA\, 94306\, United States;X-APPLE-RADIUS=100;X-TITLE=Fireside Ro
 om:geo:37.419574,-122.11249800000002
END:VEVENT
BEGIN:VTIMEZONE
TZID:America/Los_Angeles
X-LIC-LOCATION:America/Los_Angeles
BEGIN:DAYLIGHT
DTSTART:20220313T030000
TZOFFSETFROM:-0800
TZOFFSETTO:-0700
TZNAME:PDT
END:DAYLIGHT
END:VTIMEZONE
END:VCALENDAR