BEGIN:VCALENDAR
VERSION:2.0
PRODID:-//wp-events-plugin.com//7.2.2.1//EN
TZID:America/Los_Angeles
X-WR-TIMEZONE:America/Los_Angeles
BEGIN:VEVENT
UID:11073@uucpa.org
DTSTART;TZID=America/Los_Angeles:20221009T090000
DTEND;TZID=America/Los_Angeles:20221009T101500
DTSTAMP:20221008T155645Z
URL:https://www.uucpa.org/events/forum-9-2022-10-09/
SUMMARY:Forum
DESCRIPTION:Forum  Discussion Topic -  Latest Marvels from Artificial Inte
 lligence\n\nDiscussion Leader – Warren Schmidt \n\nThe Forum meets from 
 9:00 to 10:15 Sunday mornings in the Fireside Room (temporarily we are mee
 ting in the church library) as well as online via Zoom.  To learn more ab
 out attending in person\, read this. Everyone is welcome to come and parti
 cipate in a stimulating discussion. There is nothing to “join”. You ca
 n just drop in. Topics are chosen by the group about one month ahead.\n\nT
 o attend via video conference\, get the link via email.  The link will be
  emailed to members of forum-announce@uucpa.org. If you aren’t already 
 in that group (or if you aren’t sure)\, please request to join by 9 pm S
 aturday evening for the next day’s meeting info by sending an email to 
 forum-announce+subscribe@uucpa.org.\n\nEveryone is welcome.\n\nFor more in
 formation\, visit our Forum page. 
ATTACH;FMTTYPE=image/jpeg:https://www.uucpa.org/wp-content/uploads/2022/03
 /Forum-Starts-in-person-meetings.png
CATEGORIES:Forum,Small Groups
LOCATION:Library
GEO:37.419574;-122.11249800000002
X-APPLE-STRUCTURED-LOCATION;VALUE=URI;X-ADDRESS=505 E. Charleston Rd.\, Pal
 o Alto\, CA\, United States;X-APPLE-RADIUS=100;X-TITLE=Library:geo:37.4195
 74,-122.11249800000002
END:VEVENT
BEGIN:VTIMEZONE
TZID:America/Los_Angeles
X-LIC-LOCATION:America/Los_Angeles
BEGIN:DAYLIGHT
DTSTART:20220313T030000
TZOFFSETFROM:-0800
TZOFFSETTO:-0700
TZNAME:PDT
END:DAYLIGHT
END:VTIMEZONE
END:VCALENDAR