BEGIN:VCALENDAR
VERSION:2.0
PRODID:-//wp-events-plugin.com//7.2.2.1//EN
TZID:America/Los_Angeles
X-WR-TIMEZONE:America/Los_Angeles
BEGIN:VEVENT
UID:11084@uucpa.org
DTSTART;TZID=America/Los_Angeles:20221225T090000
DTEND;TZID=America/Los_Angeles:20221225T101500
DTSTAMP:20221122T164515Z
URL:https://www.uucpa.org/events/forum-9-2022-12-25/
SUMMARY:Forum
DESCRIPTION:Forum  There is no Forum meeting today due to the holiday.\n\nF
 or more information about Forum\, visit our Forum page. 
ATTACH;FMTTYPE=image/jpeg:https://www.uucpa.org/wp-content/uploads/2022/11
 /Forum-hybrid-meetings.png
CATEGORIES:Forum,Small Groups
END:VEVENT
BEGIN:VTIMEZONE
TZID:America/Los_Angeles
X-LIC-LOCATION:America/Los_Angeles
BEGIN:STANDARD
DTSTART:20221106T010000
TZOFFSETFROM:-0700
TZOFFSETTO:-0800
TZNAME:PST
END:STANDARD
END:VTIMEZONE
END:VCALENDAR