BEGIN:VCALENDAR
VERSION:2.0
PRODID:-//wp-events-plugin.com//7.2.2.1//EN
TZID:America/Los_Angeles
X-WR-TIMEZONE:America/Los_Angeles
BEGIN:VEVENT
UID:11095@uucpa.org
DTSTART;TZID=America/Los_Angeles:20230312T083000
DTEND;TZID=America/Los_Angeles:20230312T100000
DTSTAMP:20230311T220105Z
URL:https://www.uucpa.org/events/forum-9-2023-03-12/
SUMMARY:Forum
DESCRIPTION:Forum  Discussion Topic: How has your life changed during and a
 fter Covid?\n\nDiscussion Facilitator: Sarah Doxiadis will lead general di
 scussion\n\nThe Forum meets from 8:30 to 10 Sunday mornings in the Firesid
 e Room as well as online via Zoom.  To learn more about attending in pers
 on\, read this. Everyone is welcome to come and participate in a stimulati
 ng discussion. There is nothing to “join”. You can just drop in. Topic
 s are chosen by the group about one month ahead.\n\nTo attend via video co
 nference\, get the link via email.  The link will be emailed to members o
 f forum-announce@uucpa.org. If you aren’t already in that group (or if 
 you aren’t sure)\, please request to join by 9 pm Saturday evening for t
 he next day’s meeting info by sending an email to forum-announce+subscr
 ibe@uucpa.org.\n\nEveryone is welcome.\n\nFor more information\, visit our
  Forum page. 
ATTACH;FMTTYPE=image/jpeg:https://www.uucpa.org/wp-content/uploads/2023/02
 /Forum-hybrid-meetings-830-start.png
CATEGORIES:Forum,Small Groups
LOCATION:Fireside Room
GEO:37.419574;-122.11249800000002
X-APPLE-STRUCTURED-LOCATION;VALUE=URI;X-ADDRESS=505 E Charleston Road\, Pal
 o Alto\, CA\, 94306\, United States;X-APPLE-RADIUS=100;X-TITLE=Fireside Ro
 om:geo:37.419574,-122.11249800000002
END:VEVENT
BEGIN:VTIMEZONE
TZID:America/Los_Angeles
X-LIC-LOCATION:America/Los_Angeles
BEGIN:DAYLIGHT
DTSTART:20230312T030000
TZOFFSETFROM:-0800
TZOFFSETTO:-0700
TZNAME:PDT
END:DAYLIGHT
END:VTIMEZONE
END:VCALENDAR