BEGIN:VCALENDAR
VERSION:2.0
PRODID:-//wp-events-plugin.com//7.2.2.1//EN
TZID:America/Los_Angeles
X-WR-TIMEZONE:America/Los_Angeles
BEGIN:VEVENT
UID:9539@uucpa.org
DTSTART;TZID=America/Los_Angeles:20210406T190000
DTEND;TZID=America/Los_Angeles:20210406T203000
DTSTAMP:20210403T141146Z
URL:https://www.uucpa.org/events/google-tips-and-tricks-3/
SUMMARY:Google Tips and Tricks
DESCRIPTION:Google Tips and Tricks  \nThis is the last of a series of talks
  by Megan Fazio on Google Workspace (formerly G Suite). Megan expects to c
 over the remaining topics that class members asked to hear about\, and she
  will answer additional questions as time allows.\n\n\n\nGoogle Workspace 
 provides a rich set of tools for working with a variety of content.  The 
 tools make it easy to create\, manage\, and share documents within an orga
 nization\, and many of our UUCPA documents are readily accessible using th
 em.  These classes will cover a number of features\, such as Drive (file 
 system)\, Gmail\, Calendar\, Meet (video conferencing)\, Docs (documents)\
 , Sheets (spreadsheets)\, and Slides. Google Workspace tools are used in 
 a variety of settings\, and these classes will allow you to use them effec
 tively.\n\n\n\nMegan is a member of the UUCPA tech team\, working to bring
  us the Sunday service.  She is also a Google employee\, but this trainin
 g is completely unofficial. The Zoom link will be provided on announce@uu
 cpa.org and on CREparents@uucpa.org before each class or you can registe
 r below to receive the Zoom link. 
ATTACH;FMTTYPE=image/jpeg:https://www.uucpa.org/wp-content/uploads/2021/03
 /Google-Tips-and-Tricks.png
CATEGORIES:Adult,Classes,Learning
END:VEVENT
BEGIN:VTIMEZONE
TZID:America/Los_Angeles
X-LIC-LOCATION:America/Los_Angeles
BEGIN:DAYLIGHT
DTSTART:20210314T030000
TZOFFSETFROM:-0800
TZOFFSETTO:-0700
TZNAME:PDT
END:DAYLIGHT
END:VTIMEZONE
END:VCALENDAR