BEGIN:VCALENDAR
VERSION:2.0
PRODID:-//wp-events-plugin.com//7.2.2.1//EN
TZID:America/Los_Angeles
X-WR-TIMEZONE:America/Los_Angeles
BEGIN:VEVENT
UID:143@uucpa.org
DTSTART;TZID=America/Los_Angeles:20160923T193000
DTEND;TZID=America/Los_Angeles:20160923T210000
DTSTAMP:20160917T152534Z
URL:https://www.uucpa.org/events/green-sanctuary-fourth-friday-film-2016-0
 9-23/
SUMMARY:Green Sanctuary Fourth Friday Film - Dream On
DESCRIPTION:Green Sanctuary Fourth Friday Film - Dream On  \n\n\n\nTitle: 
 “Dream On"\nIn this new film\, comedian John Fugelsang retraces the jour
 ney of Alexis de Tocqueville\, whose study of our young country in 1831 de
 fined America as a place where anyone could climb the ladder of economic o
 pportunity. Fugelsang speaks with fast-food workers and retirees\, prisone
 rs and entrepreneurs\, undocumented immigrants and community organizers ab
 out their hopes\, dreams\, and daily struggles. Dream On explores the stat
 e of the American Dream that Tocqueville observed in the 21st century.\n\n
 \n\n\nA typical agenda is to gather at 7:15 pm for social time\; the film 
 starts at 7:30 pm with a discussion following. Suggested donation is $5 
 – $10 to cover film costs and venue. 
CATEGORIES:Adult,Green Sanctuary,Learning,Ongoing Events
LOCATION:Fireside Room
GEO:37.419574;-122.11249800000002
X-APPLE-STRUCTURED-LOCATION;VALUE=URI;X-ADDRESS=505 E Charleston Road\, Pal
 o Alto\, CA\, 94306\, United States;X-APPLE-RADIUS=100;X-TITLE=Fireside Ro
 om:geo:37.419574,-122.11249800000002
END:VEVENT
BEGIN:VTIMEZONE
TZID:America/Los_Angeles
X-LIC-LOCATION:America/Los_Angeles
BEGIN:DAYLIGHT
DTSTART:20160313T030000
TZOFFSETFROM:-0800
TZOFFSETTO:-0700
TZNAME:PDT
END:DAYLIGHT
END:VTIMEZONE
END:VCALENDAR