BEGIN:VCALENDAR
VERSION:2.0
PRODID:-//wp-events-plugin.com//7.2.2.1//EN
TZID:America/Los_Angeles
X-WR-TIMEZONE:America/Los_Angeles
BEGIN:VEVENT
UID:4142@uucpa.org
DTSTART;TZID=America/Los_Angeles:20180928T193000
DTEND;TZID=America/Los_Angeles:20180928T210000
DTSTAMP:20180927T185332Z
URL:https://www.uucpa.org/events/green-sanctuary-fourth-friday-film-3-2018
 -09-28/
SUMMARY:Green Sanctuary Fourth Friday Film Discussion
DESCRIPTION:Green Sanctuary Fourth Friday &lt\;del&gt\;Film&lt\;/del&gt\; D
 iscussion  \nLocal and California Election Roundtable. \nOpen discussion o
 f ballot initiatives and local measures of interest to TPAers.\nWant to ma
 ke sense of all the California ballot initiatives? Wonder what impact the 
 local measures on the ballot might have on your values and priorities?\n\n
 \n\n\nCome to the 2018 TPA election roundtable to find out what other fol
 ks have learned about the ballot measures. Sometimes there’s more to the
  story than meets the eye. Let’s crowdsource what we all know\, keeping 
 an open mind and welcoming other thoughtful perspectives.\n\n\nhttps://tra
 nsitionpaloalto.org/2018/09/02/september-28-fourth-friday-california-and-l
 ocal-election-roundtable/\n\nUsually\, this event is a film followed by a 
 discussion.  This meeting will be a discussion only.\n\nCheck out the Tra
 nsitionPaloAlto website: https://transitionpaloalto.org/projects/friday-ni
 ght-movies/ for the title of the monthly film\, or call the church offic
 e. A typical agenda is to gather at 7:15 pm for social time\; the film sta
 rts at 7:30 pm with a discussion following. Suggested donation is $5 – 
 $10 to cover film costs and venue. 
CATEGORIES:Green Sanctuary
LOCATION:Fireside Room
GEO:37.419574;-122.11249800000002
X-APPLE-STRUCTURED-LOCATION;VALUE=URI;X-ADDRESS=505 E Charleston Road\, Pal
 o Alto\, CA\, 94306\, United States;X-APPLE-RADIUS=100;X-TITLE=Fireside Ro
 om:geo:37.419574,-122.11249800000002
END:VEVENT
BEGIN:VTIMEZONE
TZID:America/Los_Angeles
X-LIC-LOCATION:America/Los_Angeles
BEGIN:DAYLIGHT
DTSTART:20180311T030000
TZOFFSETFROM:-0800
TZOFFSETTO:-0700
TZNAME:PDT
END:DAYLIGHT
END:VTIMEZONE
END:VCALENDAR