BEGIN:VCALENDAR
VERSION:2.0
PRODID:-//wp-events-plugin.com//7.2.2.1//EN
TZID:America/Los_Angeles
X-WR-TIMEZONE:America/Los_Angeles
BEGIN:VEVENT
UID:4145@uucpa.org
DTSTART;TZID=America/Los_Angeles:20181228T193000
DTEND;TZID=America/Los_Angeles:20181228T210000
DTSTAMP:20181226T202423Z
URL:https://www.uucpa.org/events/green-sanctuary-fourth-friday-film-3-2018
 -12-28/
SUMMARY:Green Sanctuary Fourth Friday Film - Canceled
DESCRIPTION:Green Sanctuary Fourth Friday Film - Canceled  There won't be a
  fourth Friday film on 12/28 due to the holidays.  Fourth Friday films wi
 ll resume on January 25th.\n\nFilms are shown on the fourth Friday of the 
 month on a variety of topics and themes in the Fireside Room starting at 
 7:30 pm. Check out the TransitionPaloAlto website: https://transitionpalo
 alto.org/projects/friday-night-movies/ for the title of the monthly film\
 , or call the church office.\n\nA typical agenda is to gather at 7:15 pm 
 for social time\; the film starts at 7:30 pm with a discussion following.
  Suggested donation is $5 – $10 to cover film costs and venue. 
CATEGORIES:Green Sanctuary
LOCATION:Fireside Room
GEO:37.419574;-122.11249800000002
X-APPLE-STRUCTURED-LOCATION;VALUE=URI;X-ADDRESS=505 E Charleston Road\, Pal
 o Alto\, CA\, 94306\, United States;X-APPLE-RADIUS=100;X-TITLE=Fireside Ro
 om:geo:37.419574,-122.11249800000002
END:VEVENT
BEGIN:VTIMEZONE
TZID:America/Los_Angeles
X-LIC-LOCATION:America/Los_Angeles
BEGIN:STANDARD
DTSTART:20181104T010000
TZOFFSETFROM:-0700
TZOFFSETTO:-0800
TZNAME:PST
END:STANDARD
END:VTIMEZONE
END:VCALENDAR