BEGIN:VCALENDAR
VERSION:2.0
PRODID:-//wp-events-plugin.com//7.2.2.1//EN
TZID:America/Los_Angeles
X-WR-TIMEZONE:America/Los_Angeles
BEGIN:VEVENT
UID:1303@uucpa.org
DTSTART;TZID=America/Los_Angeles:20170401T090000
DTEND;TZID=America/Los_Angeles:20170401T150000
DTSTAMP:20170329T140311Z
URL:https://www.uucpa.org/events/hike-garin-regional-park/
SUMMARY:Hike Garin Regional Park
DESCRIPTION:Hike Garin Regional Park  We're hiking in Garin Regional Park. 
 After all the rains\, the hills are a bright Irish green and I’m hoping 
 for lots and lots of wildflowers. Bob Simoni\, a fellow hiker and former m
 ember of UUFRC\, will be leading this hike near his home in Hayward.\n\n\n
 Our hike starts in a parking lot of California State University East Bay (
 CSUEB) where there's free charging for electric cars. If you have an EV\, 
 you can charge it while we hike. On Google Maps\, it’s indicated as "CSU
 EB Charging Station 1" on Old Hillary Road across from Student Services an
 d Administration.  If you're planning to charge your electric car during 
 our hike in Garin Regional Park this Saturday\, you'll need a Chargepoint 
 card to activate the charger.\n\nWe'll hike from CSUEB through a path down
  into Garin Park with one stream crossing and take an unmarked trail to a 
 hidden meadow where family of wild pigs has been spotted. We’ll take a l
 unch break on Bob and Sandy Simoni’s lovely deck where we might see a gr
 eat horned owl that has been nesting in their neighbor's eucalyptus tree. 
 After lunch\, we’ll return to CSUEB.  The hike is about 6 miles\, 50% w
 ooded and 50% exposed.\n\nWe’ll leave from UUFRC (2124 Brewster at Lowel
 l) in Redwood City at 9am\, Saturday\, April 1. Arrive early to arrange ca
 rpools. The drive to CSUEB will take about ­­45 minutes.\n\nBring lunch 
 and water.\n\nkaye\n 
CATEGORIES:Offsite
LOCATION:UU Fellowship of Redwood City
GEO:37.4801218;-122.2454813
X-APPLE-STRUCTURED-LOCATION;VALUE=URI;X-ADDRESS=2124 Brewster Avenue\, Redw
 ood City\, CA\, 94062\, United States;X-APPLE-RADIUS=100;X-TITLE=UU Fellow
 ship of Redwood City:geo:37.4801218,-122.2454813
END:VEVENT
BEGIN:VTIMEZONE
TZID:America/Los_Angeles
X-LIC-LOCATION:America/Los_Angeles
BEGIN:DAYLIGHT
DTSTART:20170312T030000
TZOFFSETFROM:-0800
TZOFFSETTO:-0700
TZNAME:PDT
END:DAYLIGHT
END:VTIMEZONE
END:VCALENDAR