BEGIN:VCALENDAR
VERSION:2.0
PRODID:-//wp-events-plugin.com//7.2.2.1//EN
TZID:America/Los_Angeles
X-WR-TIMEZONE:America/Los_Angeles
BEGIN:VEVENT
UID:12193@uucpa.org
DTSTART;TZID=America/Los_Angeles:20221211T103000
DTEND;TZID=America/Los_Angeles:20221211T130000
DTSTAMP:20221126T163605Z
URL:https://www.uucpa.org/events/holiday-bazaar-bake-sale-4/
SUMMARY:Holiday Bazaar & Bake Sale
DESCRIPTION:Holiday Bazaar &amp\; Bake Sale  \n\n\n\n\nThe Holiday Bazaar a
 nd Bake Sale returns this year on Sunday\, December 11th in the Fireside R
 oom from 10:30 am - 1:00 pm.\n\nIf you have an excess of holiday decoratio
 ns that you would like to donate to the church fundraiser\, please drop th
 em off at the church office on Sunday\, December 4th before 2pm.\n\nLove t
 o bake?  Donations of homemade baked goods will be most welcomed on Sunda
 y morning\, December 11th.\n\nIn previous years popular baked sale items i
 ncluded Chris Corvetti's fresh-baked breads\, Jeff Cashdollar's homemad
 e fudge and Dora Fishman's lime bars.\n\nFind these treats and more in the
  Fireside Room on Sunday\, December 11th from 10:30 am - 1:00 pm.\n\nIf yo
 u have any questions\, contact Jeff Cashdollar via email at Jeff@uucpa.or
 g.\n\n\n\n\n\n\n 
ATTACH;FMTTYPE=image/jpeg:https://www.uucpa.org/wp-content/uploads/2022/11
 /Holiday-Bazaar.png
CATEGORIES:Holidays,Special Events
LOCATION:Fireside Room
GEO:37.419574;-122.11249800000002
X-APPLE-STRUCTURED-LOCATION;VALUE=URI;X-ADDRESS=505 E Charleston Road\, Pal
 o Alto\, CA\, 94306\, United States;X-APPLE-RADIUS=100;X-TITLE=Fireside Ro
 om:geo:37.419574,-122.11249800000002
END:VEVENT
BEGIN:VTIMEZONE
TZID:America/Los_Angeles
X-LIC-LOCATION:America/Los_Angeles
BEGIN:STANDARD
DTSTART:20221106T010000
TZOFFSETFROM:-0700
TZOFFSETTO:-0800
TZNAME:PST
END:STANDARD
END:VTIMEZONE
END:VCALENDAR