BEGIN:VCALENDAR
VERSION:2.0
PRODID:-//wp-events-plugin.com//7.2.2.1//EN
TZID:America/Los_Angeles
X-WR-TIMEZONE:America/Los_Angeles
BEGIN:VEVENT
UID:14476@uucpa.org
DTSTART;TZID=America/Los_Angeles:20240517T143000
DTEND;TZID=America/Los_Angeles:20240517T160000
DTSTAMP:20240516T223846Z
URL:https://www.uucpa.org/events/how-did-we-get-here-where-can-we-go-under
 standing-israel-palestine-for-engagement-2024-05-17/
SUMMARY:How Did We Get Here\, Where Can We Go?: Understanding Israel/Palest
 ine for Engagement
DESCRIPTION:How Did We Get Here\, Where Can We Go?: Understanding Israel/Pa
 lestine for Engagement  Please note that today's session (5/17) is on Zoom
  only.\n&nbsp\;\n\nAn eight-session deep dive into the history of the conf
 lict that has brought us to today's crisis. It is structured around a four
 -part lecture series by Dr. Hussein Ibish and Prof. David N. Myers that wa
 s co-presented by Fordham University’s Center for Jewish Studies\, Cente
 r for Religion and Culture\, Department of History\, International Studies
  Program\, and Middle Eastern Studies Program.\n\nEach time\, we will watc
 h about half of the lecture\, preceding it with a recommitment to our inte
 ntions and principles\, and following it with a discussion. You are free t
 o attend only some sessions\, but as always\, the more consistently you pa
 rticipate\, the more we all gain from the shared conversation. If you anti
 cipate missing a week\, it is strongly recommended that you watch that por
 tion of the video on your own so that you are caught up when you return.\n
 This is emphatically not for UUCPA folks only. Anyone with a sincere commi
 tment to an outcome that respects people’s inherent worth and dignity\, 
 and that creates peace\, liberty\, and justice for all\, is welcome to joi
 n us.\n\nSee this post for links to the video for each session.\n\nSession
  1:  Friday\, April 26\, 2:30 pm\, Fireside Room and Zoom\nSession 2:  F
 riday\, May 3\, 2:30 pm\, Fireside Room and Zoom\nNO SESSION MAY 10\nSessi
 on 3: Friday\, May 17\, 2:30 pm\, Zoom\nSession 4: Friday\, May 24\, 2:30 
 pm\, Fireside Room and Zoom\nSession 5: Friday\, May 31\, 2:30 pm\, Firesi
 de Room and Zoom\nSession 6: Friday\, June 7\, 2:30 pm\, Fireside Room and
  Zoom\nSession 7: Friday\, June 14\, 2:30 pm\, Fireside Room and Zoom\nSes
 sion 8: Friday\, June 21\, 2:30 pm\, Fireside Room and Zoom\nThe first thr
 ee lectures (our first six sessions) were delivered at Fordham in 2017-201
 8. The speakers then returned last month to offer the fourth lecture (our 
 last two sessions) as an in-depth perspective on the history of Israel-Pal
 estine in light of the current moment. Dr. Hussein Ibish is a Senior Resid
 ent Scholar at the Arab Gulf States Institute in Washington (AGSIW). He is
  a weekly columnist for The National and previously served as a Senior Fel
 low at the American Task Force on Palestine. Prof. David N. Myers is Disti
 nguished Professor and Sady and Ludwig Kahn Chair of Jewish History at UCL
 A. The author and editor of many books\, he directs the UCLA Luskin Center
  for History and Policy and the UCLA Initiative to Study Hate.\n\n\nWhen d
 iscussing difficult topics\, in-person is best. However\, if Zoom enables 
 you to attend when you otherwise wouldn't be able to\, please do join via 
 Zoom.\n\nFacilitated by Rev. Amy Zucker Morgenstern\n\n\n&nbsp\; 
CATEGORIES:Adult,Classes,Justice,Learning,Youth
END:VEVENT
BEGIN:VTIMEZONE
TZID:America/Los_Angeles
X-LIC-LOCATION:America/Los_Angeles
BEGIN:DAYLIGHT
DTSTART:20240310T030000
TZOFFSETFROM:-0800
TZOFFSETTO:-0700
TZNAME:PDT
END:DAYLIGHT
END:VTIMEZONE
END:VCALENDAR