BEGIN:VCALENDAR
VERSION:2.0
PRODID:-//wp-events-plugin.com//7.2.2.1//EN
TZID:America/Los_Angeles
X-WR-TIMEZONE:America/Los_Angeles
BEGIN:VEVENT
UID:17571@uucpa.org
DTSTART;TZID=America/Los_Angeles:20251012T120000
DTEND;TZID=America/Los_Angeles:20251012T170000
DTSTAMP:20250913T191936Z
URL:https://www.uucpa.org/events/humanist-watch-party-for-california-freet
 hought-day/
SUMMARY:Humanist Watch Party for California Freethought Day
DESCRIPTION:Humanist Watch Party for California Freethought Day  Humanists 
 at UU invite you to a Watch Party for California Freethought Day\, Sunday\
 , October 12\, from 12 to 5 pm\, in Room 4-5.  The day is sponsored in p
 art by the American Humanist Association.\n\n\nCalifornia Freethought Day 
 combines the fun and atmosphere of a fair with the education and activism 
 of a conference. It's a festival of freethought.\n\nJoin us to celebrate 
 freedom of speech and thought\, civic engagement\, enthusiasm for science\
 , social justice\, and the separation of church and state.\n\nThe live eve
 nt will be outdoors at the California State Capitol Building and livest
 reamed to UUCPA's Room 4-5.\n\nThis 24th year will feature speakers\, ent
 ertainers\, podcasters\, authors\, awardees\, scholarship recipients\, and
  more.\n\n 	Jonathan Lopez as "Hellen Heels"\n 	Seth Andrews\, The Think
 ing Atheist\n 	Bongo Furies\, Frank Zappa Cover Band\n 	Nick Fish\, Presid
 ent of American Atheists\n 	Karma Waltonen\, Writer and Atwood Scholar\n 	
 Corey Wright\, Shiny Happy People Season 2\n 	Liana Pilar de Leo\, Schola
 rship Winner\n 	Haram Doodles\, Ex-Muslim Cartoonist\n 	Thomas Smith\, Hos
 t of Serious Inquiries Only\n 	Erica Lee\, Congressional Candidate\n 	Lyd
 ia Smith\, Podcaster\n 	Andy Swan\, as Uncle Sam\n\n\n\nSee the full list 
 and details on the official website\n\nWe'll be sure to have pizza\, frui
 t\, and cookies.\nQuestions? contact humanists+owner@uucpa.org\n\nPhoto an
 d credit information: https://commons.wikimedia.org/wiki/File:Freethought_
 Day_2015_-_Mandisa_Thomas.jpg\n 
ATTACH;FMTTYPE=image/jpeg:https://www.uucpa.org/wp-content/uploads/2025/09
 /California-Freethought-Day-Watch-Party.png
CATEGORIES:Adult,Learning,Ongoing Events,Small Groups
LOCATION:Room 4/5
GEO:37.419574;-122.11249800000002
X-APPLE-STRUCTURED-LOCATION;VALUE=URI;X-ADDRESS=505 E Charleston Rd\, Palo 
 Alto\, CA\, 94306\, United States;X-APPLE-RADIUS=100;X-TITLE=Room 4/5:geo:
 37.419574,-122.11249800000002
END:VEVENT
BEGIN:VTIMEZONE
TZID:America/Los_Angeles
X-LIC-LOCATION:America/Los_Angeles
BEGIN:DAYLIGHT
DTSTART:20250309T030000
TZOFFSETFROM:-0800
TZOFFSETTO:-0700
TZNAME:PDT
END:DAYLIGHT
END:VTIMEZONE
END:VCALENDAR