BEGIN:VCALENDAR
VERSION:2.0
PRODID:-//wp-events-plugin.com//7.2.2.1//EN
TZID:America/Los_Angeles
X-WR-TIMEZONE:America/Los_Angeles
BEGIN:VEVENT
UID:1414@uucpa.org
DTSTART;TZID=America/Los_Angeles:20170701T180000
DTEND;TZID=America/Los_Angeles:20170701T210000
DTSTAMP:20170528T154047Z
URL:https://www.uucpa.org/events/humanists-at-uucpa-2017-07-01/
SUMMARY:Humanists at UUCPA - Can the U.S. be United
DESCRIPTION:Humanists at UUCPA - Can the U.S. be United  Presenter: Richard
  Duda\n\nTopic: Can the U.S. be United\n\nThis meeting features social tim
 e\, a potluck\, 20-minute presentation and all-peer discussion. We usually
  have more than 15 attendees.\n\nTopics are selected by the group at the J
 anuary\, May\, and September meetings. For the future meeting topics\, det
 ails\, dates\, and location (which might change occasionally)\, please che
 ck this web page: https://humanists.000webhostapp.com/ComingMeetings.htm.
 \n\nSocial 6 pm\, potluck 6:30 pm\, and presentation 7:10 pm.\n\nContact:
            Emma Pan (emma_p@uucpa.org)\n\nRegistration:   Not r
 equired 
CATEGORIES:Adult
LOCATION:Fireside Room
GEO:37.419574;-122.11249800000002
X-APPLE-STRUCTURED-LOCATION;VALUE=URI;X-ADDRESS=505 E Charleston Road\, Pal
 o Alto\, CA\, 94306\, United States;X-APPLE-RADIUS=100;X-TITLE=Fireside Ro
 om:geo:37.419574,-122.11249800000002
END:VEVENT
BEGIN:VTIMEZONE
TZID:America/Los_Angeles
X-LIC-LOCATION:America/Los_Angeles
BEGIN:DAYLIGHT
DTSTART:20170312T030000
TZOFFSETFROM:-0800
TZOFFSETTO:-0700
TZNAME:PDT
END:DAYLIGHT
END:VTIMEZONE
END:VCALENDAR