BEGIN:VCALENDAR
VERSION:2.0
PRODID:-//wp-events-plugin.com//7.2.2.1//EN
TZID:America/Los_Angeles
X-WR-TIMEZONE:America/Los_Angeles
BEGIN:VEVENT
UID:16740@uucpa.org
DTSTART;TZID=America/Los_Angeles:20250309T173000
DTEND;TZID=America/Los_Angeles:20250309T200000
DTSTAMP:20250302T003120Z
URL:https://www.uucpa.org/events/interfaith-iftar-dinner/
SUMMARY:Interfaith Iftar Dinner
DESCRIPTION:Interfaith Iftar Dinner  Please join us to share the joy of Ram
 adan \n\nWe would like the pleasure of your company for an Ifatr dinner 
 \n\n 	What: Interfaith Iftar dinner    \n 	Time: 5:30 pm to 8:00\n 	When
 : Sunday March 9th\, 2025\n 	Where: First Presbyterian Church\n 	Address: 
 1140 Cowper Street\, Palo Alto\n 	About Ramadan: Ramadan is the 9th month 
 of Islamic calendar.  The Holy book\, the Quran was sent down from heaven
  as guidance during this month. The day starts with eating of the suhoor.
   Suhoor is the meal eaten before the sun rises. At sunset we have anothe
 r meal called Iftar. To open fast\, we pray and have an Iftar meal with fa
 mily and friends.\n\nBrief program to share why and how Abrahamic religion
 s fast\n\nAfter Ramadan: Eid-Ul Fitr is celebrated. \n\nLimited capacity: 
 Please register as soon as possible.\n\nLink for Interfaith Iftar dinner: 
 https://tinyurl.com/muax2pve             \n\nThis is an ongoi
 ng community and peace building campaign of the American Muslim Voice Foun
 dation. Details at: www.amuslimvoice.org 
ATTACH;FMTTYPE=image/jpeg:https://www.uucpa.org/wp-content/uploads/2025/03
 /Interfaith-Iftar-Dinner.png
CATEGORIES:Non-UUCPA,Offsite
LOCATION:First Presbyterian Church Palo Alto
GEO:37.442882;-122.15144499999997
X-APPLE-STRUCTURED-LOCATION;VALUE=URI;X-ADDRESS=1140 Cowper St\, Palo Alto\
 , CA\, 94301\, United States;X-APPLE-RADIUS=100;X-TITLE=First Presbyterian
  Church Palo Alto:geo:37.442882,-122.15144499999997
END:VEVENT
BEGIN:VTIMEZONE
TZID:America/Los_Angeles
X-LIC-LOCATION:America/Los_Angeles
BEGIN:DAYLIGHT
DTSTART:20250309T030000
TZOFFSETFROM:-0800
TZOFFSETTO:-0700
TZNAME:PDT
END:DAYLIGHT
END:VTIMEZONE
END:VCALENDAR