BEGIN:VCALENDAR
VERSION:2.0
PRODID:-//wp-events-plugin.com//7.2.2.1//EN
TZID:America/Los_Angeles
X-WR-TIMEZONE:America/Los_Angeles
BEGIN:VEVENT
UID:18304@uucpa.org
DTSTART;TZID=America/Los_Angeles:20260501T084500
DTEND;TZID=America/Los_Angeles:20260501T100000
DTSTAMP:20260425T214919Z
URL:https://www.uucpa.org/events/interfaith-prayer-breakfast-at-first-pres
 /
SUMMARY:Interfaith Prayer Breakfast at First Pres
DESCRIPTION:Interfaith Prayer Breakfast at First Pres  Gather together to d
 raw strength in community with prayers\, songs\, fellowship &amp\; nourish
 ment as we demonstrate our resistance to current policies of cruelty\, inj
 ustice and violence.\n\n 
CATEGORIES:Non-UUCPA
LOCATION:First Presbyterian Church Palo Alto
GEO:37.442882;-122.15144499999997
X-APPLE-STRUCTURED-LOCATION;VALUE=URI;X-ADDRESS=1140 Cowper St\, Palo Alto\
 , CA\, 94301\, United States;X-APPLE-RADIUS=100;X-TITLE=First Presbyterian
  Church Palo Alto:geo:37.442882,-122.15144499999997
END:VEVENT
BEGIN:VTIMEZONE
TZID:America/Los_Angeles
X-LIC-LOCATION:America/Los_Angeles
BEGIN:DAYLIGHT
DTSTART:20260308T030000
TZOFFSETFROM:-0800
TZOFFSETTO:-0700
TZNAME:PDT
END:DAYLIGHT
END:VTIMEZONE
END:VCALENDAR