BEGIN:VCALENDAR
VERSION:2.0
PRODID:-//wp-events-plugin.com//7.2.2.1//EN
TZID:America/Los_Angeles
X-WR-TIMEZONE:America/Los_Angeles
BEGIN:VEVENT
UID:539@uucpa.org
DTSTART;TZID=America/Los_Angeles:20161120T093000
DTEND;TZID=America/Los_Angeles:20161120T103000
DTSTAMP:20161119T172134Z
URL:https://www.uucpa.org/events/intergenerational-thanksgiving-service-no
 -sunday-school/
SUMMARY:Intergenerational Thanksgiving Service - no Sunday School
DESCRIPTION:Intergenerational Thanksgiving Service - no Sunday School   
CATEGORIES:Children &amp; Youth
LOCATION:UUCPA
GEO:37.419574;-122.11249800000002
X-APPLE-STRUCTURED-LOCATION;VALUE=URI;X-ADDRESS=505 E Charleston Rd\, Palo 
 Alto\, CA\, 94306\, United States;X-APPLE-RADIUS=100;X-TITLE=UUCPA:geo:37.
 419574,-122.11249800000002
END:VEVENT
BEGIN:VTIMEZONE
TZID:America/Los_Angeles
X-LIC-LOCATION:America/Los_Angeles
BEGIN:STANDARD
DTSTART:20161106T010000
TZOFFSETFROM:-0700
TZOFFSETTO:-0800
TZNAME:PST
END:STANDARD
END:VTIMEZONE
END:VCALENDAR