BEGIN:VCALENDAR
VERSION:2.0
PRODID:-//wp-events-plugin.com//7.2.2.1//EN
TZID:America/Los_Angeles
X-WR-TIMEZONE:America/Los_Angeles
BEGIN:VEVENT
UID:5735@uucpa.org
DTSTART;TZID=America/Los_Angeles:20190525T140000
DTEND;TZID=America/Los_Angeles:20190525T140000
DTSTAMP:20190525T155401Z
URL:https://www.uucpa.org/events/jenise-fuess/
SUMMARY:Jenise Fuess Celebration of Life
DESCRIPTION:Jenise Fuess Celebration of Life  \n\nJenise Fuess died on May 
 20\, 2019. She leaves two daughters and countless friends\, including many
  in our congregation.\n\n\nIt is hard to think of a part of our life here 
 that was not touched by Jenise. She was an active member of women's groups
 \, helped run the bookstore\, coordinated the receptions of numerous memor
 ials\, and taught the "New UU" class\; she served on the Ministerial Searc
 h Committee\,  Committee on Ministry and Planning Council. She adored the
 ater\, literature\, and music\, taking trips to Ashland and sharing poems 
 with other members of her committees (by heart no less). I know that many 
 others will miss her gentle wisdom\, humor and honesty as much as I will. 
 -- Rev. Amy\nHer Celebration of Life will be held at The Terraces of Los 
 Altos on Saturday\, May 25\, at 2 p.m. Jenise played frequently for the c
 hapel services there\, as she used to do at UUCPA. The venue is Redwood Ha
 ll\, on the 2nd floor of the Redwood Building\, which is at 395 Pine Lane 
 (look for the circular driveway).\n&nbsp\;\n\nCall Sara Newcomb (in the di
 rectory) if you need further information. 
CATEGORIES:Memorial,Offsite
LOCATION:The Terraces in Los Altos
GEO:37.3926566;-122.12310330000003
X-APPLE-STRUCTURED-LOCATION;VALUE=URI;X-ADDRESS=373 Pine Lane\, Los Altos\,
  CA\, United States;X-APPLE-RADIUS=100;X-TITLE=The Terraces in Los Altos:g
 eo:37.3926566,-122.12310330000003
END:VEVENT
BEGIN:VTIMEZONE
TZID:America/Los_Angeles
X-LIC-LOCATION:America/Los_Angeles
BEGIN:DAYLIGHT
DTSTART:20190310T030000
TZOFFSETFROM:-0800
TZOFFSETTO:-0700
TZNAME:PDT
END:DAYLIGHT
END:VTIMEZONE
END:VCALENDAR